BEGIN:VCALENDAR
VERSION:2.0
PRODID:-//Colorado Humanities - ECPv6.15.17//NONSGML v1.0//EN
CALSCALE:GREGORIAN
METHOD:PUBLISH
X-WR-CALNAME:Colorado Humanities
X-ORIGINAL-URL:https://coloradohumanities.org
X-WR-CALDESC:Events for Colorado Humanities
REFRESH-INTERVAL;VALUE=DURATION:PT1H
X-Robots-Tag:noindex
X-PUBLISHED-TTL:PT1H
BEGIN:VTIMEZONE
TZID:America/Denver
BEGIN:DAYLIGHT
TZOFFSETFROM:-0700
TZOFFSETTO:-0600
TZNAME:MDT
DTSTART:20180311T090000
END:DAYLIGHT
BEGIN:STANDARD
TZOFFSETFROM:-0600
TZOFFSETTO:-0700
TZNAME:MST
DTSTART:20181104T080000
END:STANDARD
BEGIN:DAYLIGHT
TZOFFSETFROM:-0700
TZOFFSETTO:-0600
TZNAME:MDT
DTSTART:20190310T090000
END:DAYLIGHT
BEGIN:STANDARD
TZOFFSETFROM:-0600
TZOFFSETTO:-0700
TZNAME:MST
DTSTART:20191103T080000
END:STANDARD
BEGIN:DAYLIGHT
TZOFFSETFROM:-0700
TZOFFSETTO:-0600
TZNAME:MDT
DTSTART:20200308T090000
END:DAYLIGHT
BEGIN:STANDARD
TZOFFSETFROM:-0600
TZOFFSETTO:-0700
TZNAME:MST
DTSTART:20201101T080000
END:STANDARD
END:VTIMEZONE
BEGIN:VEVENT
DTSTART;TZID=America/Denver:20190808T173000
DTEND;TZID=America/Denver:20190808T210000
DTSTAMP:20260420T070429
CREATED:20190127T213113Z
LAST-MODIFIED:20190612T203919Z
UID:3235-1565285400-1565298000@coloradohumanities.org
SUMMARY:High Plains Chautauqua
DESCRIPTION:Eleanor Roosevelt (Susan Marie Frontczak) and Mark Twain (George Frein)
URL:https://coloradohumanities.org/event/high-plains-chautauqua-4/
LOCATION:Aims Community College\, 5401 20th St\, Greeley\, CO\, 80634\, United States
CATEGORIES:History
ATTACH;FMTTYPE=image/jpeg:https://coloradohumanities.org/wp-content/uploads/2019/01/HIGH_purple_rev.jpg
END:VEVENT
END:VCALENDAR