BEGIN:VCALENDAR
VERSION:2.0
PRODID:-//Colorado Humanities - ECPv6.15.17//NONSGML v1.0//EN
CALSCALE:GREGORIAN
METHOD:PUBLISH
X-ORIGINAL-URL:https://coloradohumanities.org
X-WR-CALDESC:Events for Colorado Humanities
REFRESH-INTERVAL;VALUE=DURATION:PT1H
X-Robots-Tag:noindex
X-PUBLISHED-TTL:PT1H
BEGIN:VTIMEZONE
TZID:America/Denver
BEGIN:DAYLIGHT
TZOFFSETFROM:-0700
TZOFFSETTO:-0600
TZNAME:MDT
DTSTART:20180311T090000
END:DAYLIGHT
BEGIN:STANDARD
TZOFFSETFROM:-0600
TZOFFSETTO:-0700
TZNAME:MST
DTSTART:20181104T080000
END:STANDARD
BEGIN:DAYLIGHT
TZOFFSETFROM:-0700
TZOFFSETTO:-0600
TZNAME:MDT
DTSTART:20190310T090000
END:DAYLIGHT
BEGIN:STANDARD
TZOFFSETFROM:-0600
TZOFFSETTO:-0700
TZNAME:MST
DTSTART:20191103T080000
END:STANDARD
BEGIN:DAYLIGHT
TZOFFSETFROM:-0700
TZOFFSETTO:-0600
TZNAME:MDT
DTSTART:20200308T090000
END:DAYLIGHT
BEGIN:STANDARD
TZOFFSETFROM:-0600
TZOFFSETTO:-0700
TZNAME:MST
DTSTART:20201101T080000
END:STANDARD
END:VTIMEZONE
BEGIN:VEVENT
DTSTART;TZID=America/Denver:20190903T140000
DTEND;TZID=America/Denver:20190903T160000
DTSTAMP:20260420T083221
CREATED:20190724T160135Z
LAST-MODIFIED:20190827T154110Z
UID:4634-1567519200-1567526400@coloradohumanities.org
SUMMARY:Veterans Writing Workshop
DESCRIPTION:Expressive Writing Workshop for Mental Health Care Providers\nExpressive writing helps relieve the effects of trauma on your life and reduces stress. The ability to manage your life through your story increases overall wellness. \nFree Workshops provided through collaboration with Mt. Carmel Veterans Service Center. \nELIGIBILITY: Military affiliation\, over 18 years of age\, mental health care provider \n  \nMt. Carmel Veterans Service Center \nContact Kirsten Belaire to RSVP your spot: \nkbelaire@mtcarmelcenter.org \nLearn more
URL:https://coloradohumanities.org/event/veterans-writing-workshop-2019-09-02/2019-09-03/
LOCATION:Mt. Carmel Veterans Services\, 530 Communication Circle\, Colorado Springs\, CO\, 80905\, United States
CATEGORIES:Center for the Book
ATTACH;FMTTYPE=image/png:https://coloradohumanities.org/wp-content/uploads/2019/07/admin-ajax.png
END:VEVENT
BEGIN:VEVENT
DTSTART;TZID=America/Denver:20190903T180000
DTEND;TZID=America/Denver:20190903T200000
DTSTAMP:20260420T083221
CREATED:20190720T153357Z
LAST-MODIFIED:20220907T165350Z
UID:4443-1567533600-1567540800@coloradohumanities.org
SUMMARY:Durango’s Own Olga Little -- History Live Durango
DESCRIPTION:Dr. Andrew Gulliford\n\nIt wasn’t only men who won the West! Across Colorado and perhaps the entire Rocky Mountains\, there was only one female jackpacker who ran a string of burros carrying food\, supplies\, and dynamite into remote high altitude mines. On her return trips she carried heavy sacks of gold and silver ore and at least once she packed out a deceased miner. Olga Little\, only 5’ 4” and a 138 lbs. earned a solid reputation as a packer in the La Plata Mountains. This is the story of her 40+ year career told from the people who knew her and from magazine and newspaper accounts. What did Olga Little do to become famous? She was a muscular\, resourceful woman who excelled in a man’s vocation.\n\nPresented by Andrew Gulliford\, professor of history and Environmental Studies at Fort Lewis College.\n\n\n\nSW Colorado History Month\n\n\n 
URL:https://coloradohumanities.org/event/durango-history-live-7/
LOCATION:Durango Public Library\, 1900 E 3rd Ave\, Durango\, CO\, 81301\, United States
CATEGORIES:History,History Live Durango
ATTACH;FMTTYPE=image/jpeg:https://coloradohumanities.org/wp-content/uploads/2019/07/Olga-Little.jpg
ORGANIZER;CN="Gina Huett":MAILTO:ghuett@coloradohumanities.org
END:VEVENT
END:VCALENDAR