BEGIN:VCALENDAR
VERSION:2.0
PRODID:-//Colorado Humanities - ECPv6.15.17//NONSGML v1.0//EN
CALSCALE:GREGORIAN
METHOD:PUBLISH
X-ORIGINAL-URL:https://coloradohumanities.org
X-WR-CALDESC:Events for Colorado Humanities
REFRESH-INTERVAL;VALUE=DURATION:PT1H
X-Robots-Tag:noindex
X-PUBLISHED-TTL:PT1H
BEGIN:VTIMEZONE
TZID:America/Denver
BEGIN:DAYLIGHT
TZOFFSETFROM:-0700
TZOFFSETTO:-0600
TZNAME:MDT
DTSTART:20180311T090000
END:DAYLIGHT
BEGIN:STANDARD
TZOFFSETFROM:-0600
TZOFFSETTO:-0700
TZNAME:MST
DTSTART:20181104T080000
END:STANDARD
BEGIN:DAYLIGHT
TZOFFSETFROM:-0700
TZOFFSETTO:-0600
TZNAME:MDT
DTSTART:20190310T090000
END:DAYLIGHT
BEGIN:STANDARD
TZOFFSETFROM:-0600
TZOFFSETTO:-0700
TZNAME:MST
DTSTART:20191103T080000
END:STANDARD
BEGIN:DAYLIGHT
TZOFFSETFROM:-0700
TZOFFSETTO:-0600
TZNAME:MDT
DTSTART:20200308T090000
END:DAYLIGHT
BEGIN:STANDARD
TZOFFSETFROM:-0600
TZOFFSETTO:-0700
TZNAME:MST
DTSTART:20201101T080000
END:STANDARD
END:VTIMEZONE
BEGIN:VEVENT
DTSTART;TZID=America/Denver:20190905T190000
DTEND;TZID=America/Denver:20190905T203000
DTSTAMP:20260420T052959
CREATED:20190720T180610Z
LAST-MODIFIED:20190805T221509Z
UID:4447-1567710000-1567715400@coloradohumanities.org
SUMMARY:White Guys on Horseback: Cowboy and Confederate StatuesHistory Live Durango
DESCRIPTION:Judith Reynolds\nFt. Lewis College\, 130 Noble Hall \n  \nIn the summer of 2017\, a violent protest in Charlottesville ignited a long-simmering controversy over Civil War statues. Art historian and journalist Judith Reynolds will link contemporary disputes over equestrian and other forms of public art to the past\, explore present options\, and discuss the ancient practice of political erasure. Part of the Fort Lewis College Life-Long Learning Lecture Series. \n\n\nSW Colorado History Month\n\n 
URL:https://coloradohumanities.org/event/durango-history-live-3/
LOCATION:Ft. Lewis College\, 1000 Rim Dr\, Durango\, CO\, 81301\, United States
CATEGORIES:History,History Live Durango
ORGANIZER;CN="Gina Huett":MAILTO:ghuett@coloradohumanities.org
END:VEVENT
END:VCALENDAR