BEGIN:VCALENDAR
VERSION:2.0
PRODID:-//Colorado Humanities - ECPv6.15.17//NONSGML v1.0//EN
CALSCALE:GREGORIAN
METHOD:PUBLISH
X-WR-CALNAME:Colorado Humanities
X-ORIGINAL-URL:https://coloradohumanities.org
X-WR-CALDESC:Events for Colorado Humanities
REFRESH-INTERVAL;VALUE=DURATION:PT1H
X-Robots-Tag:noindex
X-PUBLISHED-TTL:PT1H
BEGIN:VTIMEZONE
TZID:America/Denver
BEGIN:DAYLIGHT
TZOFFSETFROM:-0700
TZOFFSETTO:-0600
TZNAME:MDT
DTSTART:20190310T090000
END:DAYLIGHT
BEGIN:STANDARD
TZOFFSETFROM:-0600
TZOFFSETTO:-0700
TZNAME:MST
DTSTART:20191103T080000
END:STANDARD
BEGIN:DAYLIGHT
TZOFFSETFROM:-0700
TZOFFSETTO:-0600
TZNAME:MDT
DTSTART:20200308T090000
END:DAYLIGHT
BEGIN:STANDARD
TZOFFSETFROM:-0600
TZOFFSETTO:-0700
TZNAME:MST
DTSTART:20201101T080000
END:STANDARD
BEGIN:DAYLIGHT
TZOFFSETFROM:-0700
TZOFFSETTO:-0600
TZNAME:MDT
DTSTART:20210314T090000
END:DAYLIGHT
BEGIN:STANDARD
TZOFFSETFROM:-0600
TZOFFSETTO:-0700
TZNAME:MST
DTSTART:20211107T080000
END:STANDARD
END:VTIMEZONE
BEGIN:VEVENT
DTSTART;TZID=America/Denver:20200417T190000
DTEND;TZID=America/Denver:20200417T210000
DTSTAMP:20260421T002636
CREATED:20200410T022056Z
LAST-MODIFIED:20200421T194309Z
UID:7326-1587150000-1587157200@coloradohumanities.org
SUMMARY:2020 CBA Online Finalist Reading - General Fiction\, Literary Fiction and Poetry
DESCRIPTION:Colorado Book Award in the General Fiction\, Literary Fiction\, and Poetry categories will read and answer questions during an online event hosted by Colorado Humanities & Center for the Book on Friday\, April 17 at 7 p.m. Join the Zoom meeting to converse live with authors Brandi Homan\, Wendy J. Fox\, Erika T. Wurth\, Aimie Runyan\, Linda Lafferty\, Andy Stone\, Bruce Holsinger\, Abigail Chabitnoy\, David J. Rothman\, and Dan Beachy-Quick. Nicky Beer\, the 2016 CBA winner in Poetry\, will MC. Facebook Live attendees can send in questions and comments. Support local business by ordering online at BookBar. \nThanks to our sponsors\, events are free. Long-time sponsor Outskirts Press helps thousands of authors develop\, publish\, and market thousands of high-quality\, award-winning books. The Colorado Sun\, our newest sponsor\, features weekly excerpts and interviews from Colorado authors. \nVisit the Colorado Book Awards page for more information and to see the complete Finalist Reading schedule.
URL:https://coloradohumanities.org/event/2020-cba-online-finalist-reading-general-fiction-literary-fiction-and-poetry/
CATEGORIES:Center for the Book,Colorado Book Awards
ATTACH;FMTTYPE=image/jpeg:https://coloradohumanities.org/wp-content/uploads/2020/04/Poetry-Variations-on-Dawn-and-Dusk.jpg
END:VEVENT
END:VCALENDAR