BEGIN:VCALENDAR
VERSION:2.0
PRODID:-//Colorado Humanities - ECPv6.15.17//NONSGML v1.0//EN
CALSCALE:GREGORIAN
METHOD:PUBLISH
X-WR-CALNAME:Colorado Humanities
X-ORIGINAL-URL:https://coloradohumanities.org
X-WR-CALDESC:Events for Colorado Humanities
REFRESH-INTERVAL;VALUE=DURATION:PT1H
X-Robots-Tag:noindex
X-PUBLISHED-TTL:PT1H
BEGIN:VTIMEZONE
TZID:America/Denver
BEGIN:DAYLIGHT
TZOFFSETFROM:-0700
TZOFFSETTO:-0600
TZNAME:MDT
DTSTART:20200308T090000
END:DAYLIGHT
BEGIN:STANDARD
TZOFFSETFROM:-0600
TZOFFSETTO:-0700
TZNAME:MST
DTSTART:20201101T080000
END:STANDARD
BEGIN:DAYLIGHT
TZOFFSETFROM:-0700
TZOFFSETTO:-0600
TZNAME:MDT
DTSTART:20210314T090000
END:DAYLIGHT
BEGIN:STANDARD
TZOFFSETFROM:-0600
TZOFFSETTO:-0700
TZNAME:MST
DTSTART:20211107T080000
END:STANDARD
BEGIN:DAYLIGHT
TZOFFSETFROM:-0700
TZOFFSETTO:-0600
TZNAME:MDT
DTSTART:20220313T090000
END:DAYLIGHT
BEGIN:STANDARD
TZOFFSETFROM:-0600
TZOFFSETTO:-0700
TZNAME:MST
DTSTART:20221106T080000
END:STANDARD
END:VTIMEZONE
BEGIN:VEVENT
DTSTART;TZID=America/Denver:20210909T190000
DTEND;TZID=America/Denver:20210909T203000
DTSTAMP:20260421T022808
CREATED:20200807T201910Z
LAST-MODIFIED:20210909T213027Z
UID:11539-1631214000-1631219400@coloradohumanities.org
SUMMARY:St. Mark’s Church: The Building and its People in Early DurangoHistory Live Durango
DESCRIPTION:Retired physician John A. K. (Kip) Boyd\, M.D. will review the early history of St. Mark’s Episcopal Church\, which coincided with Durango’s birth\, and he will also examine how the church survived the great fire of 1889 to rebuild in 1891 and thrive into the present. \nPresented by Fort Lewis College Lifelong Learning\nFor location visit www.fortlewis.edu/LLL \n  \nJoin Via Zoom\n  \n 
URL:https://coloradohumanities.org/event/st-marks-church-the-building-and-its-people-in-early-durango-history-live-durango/
LOCATION:Online\, CO
CATEGORIES:History,History Live Durango
ATTACH;FMTTYPE=image/jpeg:https://coloradohumanities.org/wp-content/uploads/2021/07/9_9-1892.St_.Marks-Church.jpeg
END:VEVENT
END:VCALENDAR