BEGIN:VCALENDAR
VERSION:2.0
PRODID:-//Colorado Humanities - ECPv6.15.17//NONSGML v1.0//EN
CALSCALE:GREGORIAN
METHOD:PUBLISH
X-ORIGINAL-URL:https://coloradohumanities.org
X-WR-CALDESC:Events for Colorado Humanities
REFRESH-INTERVAL;VALUE=DURATION:PT1H
X-Robots-Tag:noindex
X-PUBLISHED-TTL:PT1H
BEGIN:VTIMEZONE
TZID:America/Denver
BEGIN:DAYLIGHT
TZOFFSETFROM:-0700
TZOFFSETTO:-0600
TZNAME:MDT
DTSTART:20200308T090000
END:DAYLIGHT
BEGIN:STANDARD
TZOFFSETFROM:-0600
TZOFFSETTO:-0700
TZNAME:MST
DTSTART:20201101T080000
END:STANDARD
BEGIN:DAYLIGHT
TZOFFSETFROM:-0700
TZOFFSETTO:-0600
TZNAME:MDT
DTSTART:20210314T090000
END:DAYLIGHT
BEGIN:STANDARD
TZOFFSETFROM:-0600
TZOFFSETTO:-0700
TZNAME:MST
DTSTART:20211107T080000
END:STANDARD
BEGIN:DAYLIGHT
TZOFFSETFROM:-0700
TZOFFSETTO:-0600
TZNAME:MDT
DTSTART:20220313T090000
END:DAYLIGHT
BEGIN:STANDARD
TZOFFSETFROM:-0600
TZOFFSETTO:-0700
TZNAME:MST
DTSTART:20221106T080000
END:STANDARD
END:VTIMEZONE
BEGIN:VEVENT
DTSTART;TZID=America/Denver:20210915T190000
DTEND;TZID=America/Denver:20210915T200000
DTSTAMP:20260421T004621
CREATED:20200807T201910Z
LAST-MODIFIED:20210824T201150Z
UID:11545-1631732400-1631736000@coloradohumanities.org
SUMMARY:Colorado Experience: Press of the WestHistory Live Durango
DESCRIPTION:Online Screening & Sneak Preview\nClips from “Colorado Experience: Press of the West” show how the rare Cranston Press shaped the growth of the Town of Mancos and how community efforts led to its restoration. Participants also get an exclusive look at a Season 9 Colorado Experience documentary in production now in Southwest Colorado. \nPresented online by Rocky Mountain PBS and Mancos Common Press \nTo register or learn more\, contact Debbie Higgs at debbiehiggs@rmpbs.org\, 970.235.8707 \n  \n 
URL:https://coloradohumanities.org/event/colorado-experience-press-of-the-west-history-live-durango/
LOCATION:Online
CATEGORIES:History,History Live Durango
ATTACH;FMTTYPE=image/jpeg:https://coloradohumanities.org/wp-content/uploads/2021/08/9_15-press-of-the-west.jpg
END:VEVENT
END:VCALENDAR