BEGIN:VCALENDAR
VERSION:2.0
PRODID:-//Colorado Humanities - ECPv6.15.17//NONSGML v1.0//EN
CALSCALE:GREGORIAN
METHOD:PUBLISH
X-WR-CALNAME:Colorado Humanities
X-ORIGINAL-URL:https://coloradohumanities.org
X-WR-CALDESC:Events for Colorado Humanities
REFRESH-INTERVAL;VALUE=DURATION:PT1H
X-Robots-Tag:noindex
X-PUBLISHED-TTL:PT1H
BEGIN:VTIMEZONE
TZID:America/Denver
BEGIN:DAYLIGHT
TZOFFSETFROM:-0700
TZOFFSETTO:-0600
TZNAME:MDT
DTSTART:20200308T090000
END:DAYLIGHT
BEGIN:STANDARD
TZOFFSETFROM:-0600
TZOFFSETTO:-0700
TZNAME:MST
DTSTART:20201101T080000
END:STANDARD
BEGIN:DAYLIGHT
TZOFFSETFROM:-0700
TZOFFSETTO:-0600
TZNAME:MDT
DTSTART:20210314T090000
END:DAYLIGHT
BEGIN:STANDARD
TZOFFSETFROM:-0600
TZOFFSETTO:-0700
TZNAME:MST
DTSTART:20211107T080000
END:STANDARD
BEGIN:DAYLIGHT
TZOFFSETFROM:-0700
TZOFFSETTO:-0600
TZNAME:MDT
DTSTART:20220313T090000
END:DAYLIGHT
BEGIN:STANDARD
TZOFFSETFROM:-0600
TZOFFSETTO:-0700
TZNAME:MST
DTSTART:20221106T080000
END:STANDARD
END:VTIMEZONE
BEGIN:VEVENT
DTSTART;TZID=America/Denver:20210916T190000
DTEND;TZID=America/Denver:20210916T203000
DTSTAMP:20260421T004515
CREATED:20200807T201910Z
LAST-MODIFIED:20210915T185806Z
UID:11546-1631818800-1631824200@coloradohumanities.org
SUMMARY:Dwight D. Eisenhower Chautauqua portrayal by Doug MishlerHistory Live Durango
DESCRIPTION:Living history scholar Doug Mishler\, who has appeared in Durango before as Teddy Roosevelt and Nikola Tesla\, will return as the 34th President of the United States and renowned World War II General. Following the portrayal\, Mishler will join the audience for Q&A. \nPresented by Fort Lewis College Lifelong Learning and Colorado Humanities \n  \nWatch Live\n 
URL:https://coloradohumanities.org/event/book-club-discussion-of-the-soul-of-america-history-live-durango-2021-09-01-2021-09-16/
LOCATION:Ft. Lewis College\, 1000 Rim Dr\, Durango\, CO\, 81301\, United States
CATEGORIES:History,History Live Durango
ATTACH;FMTTYPE=image/jpeg:https://coloradohumanities.org/wp-content/uploads/2021/07/9_16-Dwight-Eisenhower.jpg
END:VEVENT
END:VCALENDAR