BEGIN:VCALENDAR
VERSION:2.0
PRODID:-//Colorado Humanities - ECPv6.15.17//NONSGML v1.0//EN
CALSCALE:GREGORIAN
METHOD:PUBLISH
X-WR-CALNAME:Colorado Humanities
X-ORIGINAL-URL:https://coloradohumanities.org
X-WR-CALDESC:Events for Colorado Humanities
REFRESH-INTERVAL;VALUE=DURATION:PT1H
X-Robots-Tag:noindex
X-PUBLISHED-TTL:PT1H
BEGIN:VTIMEZONE
TZID:America/Denver
BEGIN:DAYLIGHT
TZOFFSETFROM:-0700
TZOFFSETTO:-0600
TZNAME:MDT
DTSTART:20200308T090000
END:DAYLIGHT
BEGIN:STANDARD
TZOFFSETFROM:-0600
TZOFFSETTO:-0700
TZNAME:MST
DTSTART:20201101T080000
END:STANDARD
BEGIN:DAYLIGHT
TZOFFSETFROM:-0700
TZOFFSETTO:-0600
TZNAME:MDT
DTSTART:20210314T090000
END:DAYLIGHT
BEGIN:STANDARD
TZOFFSETFROM:-0600
TZOFFSETTO:-0700
TZNAME:MST
DTSTART:20211107T080000
END:STANDARD
BEGIN:DAYLIGHT
TZOFFSETFROM:-0700
TZOFFSETTO:-0600
TZNAME:MDT
DTSTART:20220313T090000
END:DAYLIGHT
BEGIN:STANDARD
TZOFFSETFROM:-0600
TZOFFSETTO:-0700
TZNAME:MST
DTSTART:20221106T080000
END:STANDARD
END:VTIMEZONE
BEGIN:VEVENT
DTSTART;TZID=America/Denver:20210917T100000
DTEND;TZID=America/Denver:20210917T104500
DTSTAMP:20260421T004958
CREATED:20200807T201910Z
LAST-MODIFIED:20210831T154821Z
UID:11684-1631872800-1631875500@coloradohumanities.org
SUMMARY:Introduction to the PowwowHistory Live Durango
DESCRIPTION:This program will provide an introduction to the cultural\, social\,and historical aspects of powwow and include an overview of powwow etiquette and a question and answer period. \nPresented by the Southern Ute Cultural Center and Museum at the Southern Ute Cultural Center and Museum \nContact SkyDawn Moccasin-Flower\, sflower@southernute-nsn.gov\, 970.563.2998 \n  \n 
URL:https://coloradohumanities.org/event/introduction-to-the-powwow-history-live-durango/
LOCATION:Southern Ute Cultural Center and Museum\, 503 Ouray Dr\, Ignacio\, CO\, 81137
CATEGORIES:History,History Live Durango
ATTACH;FMTTYPE=image/jpeg:https://coloradohumanities.org/wp-content/uploads/2021/08/SUTF-Powwow-Group2.jpg
ORGANIZER;CN="SkyDawn Moccasin-Flower":MAILTO:sflower@southernute-nsn.gov
END:VEVENT
BEGIN:VEVENT
DTSTART;TZID=America/Denver:20210917T100000
DTEND;TZID=America/Denver:20210917T180000
DTSTAMP:20260421T004958
CREATED:20200807T201910Z
LAST-MODIFIED:20210831T154514Z
UID:11793-1631872800-1631901600@coloradohumanities.org
SUMMARY:Powwow Regalia: Not a Costume ExhibitHistory Live Durango
DESCRIPTION:Come see and learn about powwow regalia\, including what regalia items are for and their special meanings. Explore the different dance categories in a typical powwow and what they represent. This is a walk-through exhibit with Southern Ute docents to explain and answer questions. \nPresented by the Southern Ute Cultural Center and Museum at the Southern Ute Cultural Center and Museum \nContact SkyDawn Moccasin-Flower\, sflower@southernute-nsn.gov\, 970.563.2998 \n  \n 
URL:https://coloradohumanities.org/event/powwow-regalia-not-a-costume-exhibit-history-live-durango-2021-09-19/
LOCATION:Southern Ute Cultural Center and Museum\, 503 Ouray Dr\, Ignacio\, CO\, 81137
CATEGORIES:History,History Live Durango
ATTACH;FMTTYPE=image/jpeg:https://coloradohumanities.org/wp-content/uploads/2021/08/Southern-Ute-Tribal-Fair-and-Powwow-77.jpg
ORGANIZER;CN="SkyDawn Moccasin-Flower":MAILTO:sflower@southernute-nsn.gov
END:VEVENT
BEGIN:VEVENT
DTSTART;TZID=America/Denver:20210917T110000
DTEND;TZID=America/Denver:20210917T120000
DTSTAMP:20260421T004958
CREATED:20200807T201910Z
LAST-MODIFIED:20210824T201734Z
UID:11685-1631876400-1631880000@coloradohumanities.org
SUMMARY:History of Native American Beading and Beading DemonstrationsHistory Live Durango
DESCRIPTION:Southern Ute beaders will provide demonstrations about different beading techniques and will have examples of their work on view. Free bead kits for children and adults will be available while supplies last. \nPresented by the Southern Ute Cultural Center and Museum at the Southern Ute Cultural Center and Museum \nContact SkyDawn Moccasin-Flower\, sflower@southernute-nsn.gov\, 970.563.2998 \n  \n 
URL:https://coloradohumanities.org/event/history-of-native-american-beading-and-beading-demonstratio2ns-history-live-durango/
LOCATION:Southern Ute Cultural Center and Museum\, 503 Ouray Dr\, Ignacio\, CO\, 81137
CATEGORIES:History,History Live Durango
ATTACH;FMTTYPE=image/jpeg:https://coloradohumanities.org/wp-content/uploads/2021/08/Bead-Challenge-Bear-Box.jpg
ORGANIZER;CN="SkyDawn Moccasin-Flower":MAILTO:sflower@southernute-nsn.gov
END:VEVENT
BEGIN:VEVENT
DTSTART;TZID=America/Denver:20210917T150000
DTEND;TZID=America/Denver:20210917T160000
DTSTAMP:20260421T004958
CREATED:20200807T201910Z
LAST-MODIFIED:20210825T211112Z
UID:11711-1631890800-1631894400@coloradohumanities.org
SUMMARY:History of Native American Beading and Beading DemonstrationsHistory Live Durango
DESCRIPTION:Southern Ute beaders will provide demonstrations about different beading techniques and will have examples of their work on view. Free bead kits for children and adults will be available while supplies last. \nPresented by the Southern Ute Cultural Center and Museum at the Southern Ute Cultural Center and Museum \nContact SkyDawn Moccasin-Flower\, sflower@southernute-nsn.gov\, 970.563.2998 \n  \n 
URL:https://coloradohumanities.org/event/history-of-native-american-beading-and-beading-demonstratio2ns-history-live-durango-2021-09-17/
LOCATION:Southern Ute Cultural Center and Museum\, 503 Ouray Dr\, Ignacio\, CO\, 81137
CATEGORIES:History,History Live Durango
ATTACH;FMTTYPE=image/jpeg:https://coloradohumanities.org/wp-content/uploads/2021/08/Bead-Challenge-Bear-Box.jpg
ORGANIZER;CN="SkyDawn Moccasin-Flower":MAILTO:sflower@southernute-nsn.gov
END:VEVENT
BEGIN:VEVENT
DTSTART;TZID=America/Denver:20210917T160000
DTEND;TZID=America/Denver:20210917T164500
DTSTAMP:20260421T004958
CREATED:20200807T201910Z
LAST-MODIFIED:20210831T154933Z
UID:11724-1631894400-1631897100@coloradohumanities.org
SUMMARY:Introduction to the PowwowHistory Live Durango
DESCRIPTION:This program will provide an introduction to the cultural\, social\,and historical aspects of powwow and include an overview of powwow etiquette and a question and answer period. \nPresented by the Southern Ute Cultural Center and Museum at the Southern Ute Cultural Center and Museum \nContact SkyDawn Moccasin-Flower\, sflower@southernute-nsn.gov\, 970.563.2998 \n  \n 
URL:https://coloradohumanities.org/event/introduction-to-the-powwow-history-live-durango-2021-09-17/
LOCATION:Southern Ute Cultural Center and Museum\, 503 Ouray Dr\, Ignacio\, CO\, 81137
CATEGORIES:History,History Live Durango
ATTACH;FMTTYPE=image/jpeg:https://coloradohumanities.org/wp-content/uploads/2021/08/SUTF-Powwow-Group2.jpg
ORGANIZER;CN="SkyDawn Moccasin-Flower":MAILTO:sflower@southernute-nsn.gov
END:VEVENT
END:VCALENDAR