BEGIN:VCALENDAR
VERSION:2.0
PRODID:-//Colorado Humanities - ECPv6.15.17//NONSGML v1.0//EN
CALSCALE:GREGORIAN
METHOD:PUBLISH
X-WR-CALNAME:Colorado Humanities
X-ORIGINAL-URL:https://coloradohumanities.org
X-WR-CALDESC:Events for Colorado Humanities
REFRESH-INTERVAL;VALUE=DURATION:PT1H
X-Robots-Tag:noindex
X-PUBLISHED-TTL:PT1H
BEGIN:VTIMEZONE
TZID:America/Denver
BEGIN:DAYLIGHT
TZOFFSETFROM:-0700
TZOFFSETTO:-0600
TZNAME:MDT
DTSTART:20200308T090000
END:DAYLIGHT
BEGIN:STANDARD
TZOFFSETFROM:-0600
TZOFFSETTO:-0700
TZNAME:MST
DTSTART:20201101T080000
END:STANDARD
BEGIN:DAYLIGHT
TZOFFSETFROM:-0700
TZOFFSETTO:-0600
TZNAME:MDT
DTSTART:20210314T090000
END:DAYLIGHT
BEGIN:STANDARD
TZOFFSETFROM:-0600
TZOFFSETTO:-0700
TZNAME:MST
DTSTART:20211107T080000
END:STANDARD
BEGIN:DAYLIGHT
TZOFFSETFROM:-0700
TZOFFSETTO:-0600
TZNAME:MDT
DTSTART:20220313T090000
END:DAYLIGHT
BEGIN:STANDARD
TZOFFSETFROM:-0600
TZOFFSETTO:-0700
TZNAME:MST
DTSTART:20221106T080000
END:STANDARD
END:VTIMEZONE
BEGIN:VEVENT
DTSTART;TZID=America/Denver:20210918T100000
DTEND;TZID=America/Denver:20210918T180000
DTSTAMP:20260423T060532
CREATED:20200807T201910Z
LAST-MODIFIED:20210831T154632Z
UID:11547-1631959200-1631988000@coloradohumanities.org
SUMMARY:Powwow Regalia: Not a Costume ExhibitHistory Live Durango
DESCRIPTION:Come see and learn about powwow regalia\, including what regalia items are for and their special meanings. Explore the different dance categories in a typical powwow and what they represent. This is a walk-through exhibit with Southern Ute docents to explain and answer questions. \nPresented by the Southern Ute Cultural Center and Museum at the Southern Ute Cultural Center and Museum \nContact SkyDawn Moccasin-Flower\, sflower@southernute-nsn.gov\, 970.563.2998 \n  \n 
URL:https://coloradohumanities.org/event/powwow-regalia-not-a-costume-exhibit-history-live-durango/
LOCATION:Southern Ute Cultural Center and Museum\, 503 Ouray Dr\, Ignacio\, CO\, 81137
CATEGORIES:History,History Live Durango
ATTACH;FMTTYPE=image/jpeg:https://coloradohumanities.org/wp-content/uploads/2021/08/Southern-Ute-Tribal-Fair-and-Powwow-77.jpg
ORGANIZER;CN="SkyDawn Moccasin-Flower":MAILTO:sflower@southernute-nsn.gov
END:VEVENT
BEGIN:VEVENT
DTSTART;TZID=America/Denver:20210918T140000
DTEND;TZID=America/Denver:20210918T144500
DTSTAMP:20260423T060532
CREATED:20200807T201910Z
LAST-MODIFIED:20210831T155055Z
UID:11737-1631973600-1631976300@coloradohumanities.org
SUMMARY:Introduction to the PowwowHistory Live Durango
DESCRIPTION:This program will provide an introduction to the cultural\, social\,and historical aspects of powwow and include an overview of powwow etiquette and a question and answer period. \nPresented by the Southern Ute Cultural Center and Museum at the Southern Ute Cultural Center and Museum \nContact SkyDawn Moccasin-Flower\, sflower@southernute-nsn.gov\, 970.563.2998 \n  \n 
URL:https://coloradohumanities.org/event/introduction-to-the-powwow-history-live-durango-2021-09-18/
LOCATION:Southern Ute Cultural Center and Museum\, 503 Ouray Dr\, Ignacio\, CO\, 81137
CATEGORIES:History,History Live Durango
ATTACH;FMTTYPE=image/jpeg:https://coloradohumanities.org/wp-content/uploads/2021/08/SUTF-Powwow-Group2.jpg
ORGANIZER;CN="SkyDawn Moccasin-Flower":MAILTO:sflower@southernute-nsn.gov
END:VEVENT
END:VCALENDAR