BEGIN:VCALENDAR
VERSION:2.0
PRODID:-//Colorado Humanities - ECPv6.15.17//NONSGML v1.0//EN
CALSCALE:GREGORIAN
METHOD:PUBLISH
X-WR-CALNAME:Colorado Humanities
X-ORIGINAL-URL:https://coloradohumanities.org
X-WR-CALDESC:Events for Colorado Humanities
REFRESH-INTERVAL;VALUE=DURATION:PT1H
X-Robots-Tag:noindex
X-PUBLISHED-TTL:PT1H
BEGIN:VTIMEZONE
TZID:America/Denver
BEGIN:DAYLIGHT
TZOFFSETFROM:-0700
TZOFFSETTO:-0600
TZNAME:MDT
DTSTART:20200308T090000
END:DAYLIGHT
BEGIN:STANDARD
TZOFFSETFROM:-0600
TZOFFSETTO:-0700
TZNAME:MST
DTSTART:20201101T080000
END:STANDARD
BEGIN:DAYLIGHT
TZOFFSETFROM:-0700
TZOFFSETTO:-0600
TZNAME:MDT
DTSTART:20210314T090000
END:DAYLIGHT
BEGIN:STANDARD
TZOFFSETFROM:-0600
TZOFFSETTO:-0700
TZNAME:MST
DTSTART:20211107T080000
END:STANDARD
BEGIN:DAYLIGHT
TZOFFSETFROM:-0700
TZOFFSETTO:-0600
TZNAME:MDT
DTSTART:20220313T090000
END:DAYLIGHT
BEGIN:STANDARD
TZOFFSETFROM:-0600
TZOFFSETTO:-0700
TZNAME:MST
DTSTART:20221106T080000
END:STANDARD
END:VTIMEZONE
BEGIN:VEVENT
DTSTART;TZID=America/Denver:20210930T190000
DTEND;TZID=America/Denver:20210930T203000
DTSTAMP:20260421T004932
CREATED:20200807T201910Z
LAST-MODIFIED:20210825T193821Z
UID:11560-1633028400-1633033800@coloradohumanities.org
SUMMARY:Why Does Durango Look the Way it Does?: Our Odd Victorian ArchitectureHistory Live Durango
DESCRIPTION:Journalist Judith Reynolds will explore how Durango reinvented itself after the disastrous fire of July 1889 to build fanciful imitations of Renaissance palaces\, a Roman fortress\, and even a scaled-down cathedral in the heyday of Victorian architecture. \nPresented by Fort Lewis College Lifelong Learning \nFor location\, visit www.fortlewis.edu/LLL \n 
URL:https://coloradohumanities.org/event/why-does-durango-look-the-way-it-does-our-odd-victorian-architecture-history-live-durango/
LOCATION:TBD
CATEGORIES:History,History Live Durango
ATTACH;FMTTYPE=image/jpeg:https://coloradohumanities.org/wp-content/uploads/2021/07/9_30-Victorian-Architecture.jpg-.jpg
ORGANIZER;CN="Ft. Lewis College Lifelong Learning":MAILTO:gsorcer@hotmail.com
END:VEVENT
END:VCALENDAR