BEGIN:VCALENDAR
VERSION:2.0
PRODID:-//Colorado Humanities - ECPv6.15.17//NONSGML v1.0//EN
CALSCALE:GREGORIAN
METHOD:PUBLISH
X-ORIGINAL-URL:https://coloradohumanities.org
X-WR-CALDESC:Events for Colorado Humanities
REFRESH-INTERVAL;VALUE=DURATION:PT1H
X-Robots-Tag:noindex
X-PUBLISHED-TTL:PT1H
BEGIN:VTIMEZONE
TZID:America/Denver
BEGIN:DAYLIGHT
TZOFFSETFROM:-0700
TZOFFSETTO:-0600
TZNAME:MDT
DTSTART:20180311T090000
END:DAYLIGHT
BEGIN:STANDARD
TZOFFSETFROM:-0600
TZOFFSETTO:-0700
TZNAME:MST
DTSTART:20181104T080000
END:STANDARD
BEGIN:DAYLIGHT
TZOFFSETFROM:-0700
TZOFFSETTO:-0600
TZNAME:MDT
DTSTART:20190310T090000
END:DAYLIGHT
BEGIN:STANDARD
TZOFFSETFROM:-0600
TZOFFSETTO:-0700
TZNAME:MST
DTSTART:20191103T080000
END:STANDARD
BEGIN:DAYLIGHT
TZOFFSETFROM:-0700
TZOFFSETTO:-0600
TZNAME:MDT
DTSTART:20200308T090000
END:DAYLIGHT
BEGIN:STANDARD
TZOFFSETFROM:-0600
TZOFFSETTO:-0700
TZNAME:MST
DTSTART:20201101T080000
END:STANDARD
END:VTIMEZONE
BEGIN:VEVENT
DTSTART;TZID=America/Denver:20190813T180000
DTEND;TZID=America/Denver:20190813T200000
DTSTAMP:20260420T154508
CREATED:20190719T215514Z
LAST-MODIFIED:20190809T222857Z
UID:4423-1565719200-1565726400@coloradohumanities.org
SUMMARY:Barbecue in America Buffet
DESCRIPTION:The Soul Food Scholar Adrian Miller presents an evening of food and conversation with Smokelore author Jim Auchmutey \nProceeds benefit Colorado Humanities \nRead More Here
URL:https://coloradohumanities.org/event/barbecue-in-america-buffet/
LOCATION:Cheluna Brewing Company\, Stanley Marketplace\, 2501 Dallas St.\, Aurora\, CO\, 80010\, United States
CATEGORIES:Benefits
ATTACH;FMTTYPE=image/jpeg:https://coloradohumanities.org/wp-content/uploads/2019/07/SOLD-OUT.jpg
END:VEVENT
END:VCALENDAR