BEGIN:VCALENDAR
VERSION:2.0
PRODID:-//Colorado Humanities - ECPv6.15.17//NONSGML v1.0//EN
CALSCALE:GREGORIAN
METHOD:PUBLISH
X-ORIGINAL-URL:https://coloradohumanities.org
X-WR-CALDESC:Events for Colorado Humanities
REFRESH-INTERVAL;VALUE=DURATION:PT1H
X-Robots-Tag:noindex
X-PUBLISHED-TTL:PT1H
BEGIN:VTIMEZONE
TZID:America/Denver
BEGIN:DAYLIGHT
TZOFFSETFROM:-0700
TZOFFSETTO:-0600
TZNAME:MDT
DTSTART:20180311T090000
END:DAYLIGHT
BEGIN:STANDARD
TZOFFSETFROM:-0600
TZOFFSETTO:-0700
TZNAME:MST
DTSTART:20181104T080000
END:STANDARD
BEGIN:DAYLIGHT
TZOFFSETFROM:-0700
TZOFFSETTO:-0600
TZNAME:MDT
DTSTART:20190310T090000
END:DAYLIGHT
BEGIN:STANDARD
TZOFFSETFROM:-0600
TZOFFSETTO:-0700
TZNAME:MST
DTSTART:20191103T080000
END:STANDARD
BEGIN:DAYLIGHT
TZOFFSETFROM:-0700
TZOFFSETTO:-0600
TZNAME:MDT
DTSTART:20200308T090000
END:DAYLIGHT
BEGIN:STANDARD
TZOFFSETFROM:-0600
TZOFFSETTO:-0700
TZNAME:MST
DTSTART:20201101T080000
END:STANDARD
END:VTIMEZONE
BEGIN:VEVENT
DTSTART;TZID=America/Denver:20190918T180000
DTEND;TZID=America/Denver:20190918T190000
DTSTAMP:20260420T083318
CREATED:20190720T190158Z
LAST-MODIFIED:20190916T160859Z
UID:4469-1568829600-1568833200@coloradohumanities.org
SUMMARY:Durango Diaries: Historical CrimesHistory Live Durango
DESCRIPTION:From a shootout on Main Avenue to crimes from the early 1900s\, three local storytellers will share some of the most interesting tales from Durango’s past during this family-friendly installment of The Durango Herald’s storytelling series “Durango Diaries.” \n  \nStorytellers include: \n  \nJohn Peel\nJohn Peel spent three decades in journalism before leaving The Durango Herald in 2015 to start his own business creating books. For fun he mountain bikes\, plays tennis\, and hikes. He is working on a Fifth Edition of “Hiking Trails of Southwestern Colorado.” He will talk about the 1907 murder of a Secret Service agent. \n  \nRobert McDaniel\nRobert McDaniel is a fourth-generation Durango native and was the founding director of Durango’s Animas Museum. Among the museum’s many accomplishments during his tenure\, the highest honor achieved was the 2008 Governor’s Award for Historic Preservation. He is working on a book-length biography of Emmet Wirt\, an early 20th-century trader to the Jicarilla Apaches. He will discuss the 1922 shootout between two Durango newspaper editors. \n  \nSharon Greve\nSharon Greve graduated from the Citizen’s Police Academy in 2011\, quickly becoming a volunteer. In 2012\, she became the first Durango Police Department historian. She is the author of “Beyond the Badge\, 1881-1949\, Law and Disorder\,” a look at the early years of the Durango Police Department. She will discuss a number of interesting cases. \n  \nA donation of $5 per person will be accepted at the door.
URL:https://coloradohumanities.org/event/durango-diaries-historical-crimes/
LOCATION:Durango Public Library\, 1900 E 3rd Ave\, Durango\, CO\, 81301\, United States
CATEGORIES:History,History Live Durango
ATTACH;FMTTYPE=image/jpeg:https://coloradohumanities.org/wp-content/uploads/2019/07/Durango-Diaries.jpg
END:VEVENT
BEGIN:VEVENT
DTSTART;TZID=America/Denver:20190919T080000
DTEND;TZID=America/Denver:20190919T170000
DTSTAMP:20260420T083318
CREATED:20190919T175955Z
LAST-MODIFIED:20190920T183854Z
UID:5370-1568880000-1568912400@coloradohumanities.org
SUMMARY:Calendar
DESCRIPTION:Board Meeting Dates 2018-2019 \nDecember 7\, 2019 \n  \nBoard Meeting Dates 2020 \nMarch 7\, 2020 \nJune 6\, 2020 \nSeptember 12\, 2020 \nDecember 5\, 2020
URL:https://coloradohumanities.org/event/board-calendar/
END:VEVENT
BEGIN:VEVENT
DTSTART;TZID=America/Denver:20190919T190000
DTEND;TZID=America/Denver:20190919T203000
DTSTAMP:20260420T083318
CREATED:20190720T190652Z
LAST-MODIFIED:20190916T160849Z
UID:4471-1568919600-1568925000@coloradohumanities.org
SUMMARY:Water Conservation and Environmental Law in the Colorado WestHistory Live Durango
DESCRIPTION:Justice Gregory Hobbs\nFt. Lewis College\, 130 Noble Hall \n  \nGregory Hobbs\, retired Justice of the Colorado Supreme Court\, will discuss the history and culture of Colorado water\, conditional rights\, supply planning\, instream flows\, kayak courses\, and conservation. Justice Hobbs will also talk about how two opinions he authored for the Court\, brought by Trout Unlimited\, are helping shape water supply planning\, conservation\, and environmental law in Colorado and the West.  \n  \nPart of the Fort Lewis College Life-Long Learning Lecture Series. Co-sponsored by Trout Unlimited and the FLC Center of Southwest Studies. \n  \nSW Colorado History Month \n 
URL:https://coloradohumanities.org/event/water-conservation-and-environmental-law-in-the-colorado-west/
LOCATION:Ft. Lewis College\, 1000 Rim Dr\, Durango\, CO\, 81301\, United States
CATEGORIES:History,History Live Durango
ATTACH;FMTTYPE=image/jpeg:https://coloradohumanities.org/wp-content/uploads/2019/07/Gregory-Hobbs.jpg
ORGANIZER;CN="Gina Huett":MAILTO:ghuett@coloradohumanities.org
END:VEVENT
BEGIN:VEVENT
DTSTART;TZID=America/Denver:20190920T173000
DTEND;TZID=America/Denver:20190920T193000
DTSTAMP:20260420T083318
CREATED:20190720T191910Z
LAST-MODIFIED:20190916T160827Z
UID:4478-1569000600-1569007800@coloradohumanities.org
SUMMARY:John Wesley Powell’s Vision of the West and the Colorado River Then and NowHistory Live Durango
DESCRIPTION:Justice Gregory Hobbs\nFt. Lewis College Center for Southwest Studies\, Lyceum Room #120 \n  \nIn the spirit of the 150th anniversary celebration of John Wesley Powell’s trip down the Green and Colorado Rivers in 1869\, the Honorable Judge Gregory Hobbs will be talking about Powell’s vision for the West\, the Colorado River Compact of 1922\, and the status of the new Colorado River Drought Contingency Plan and what it means to the future of the West. This will be free event for FLC students\, faculty\, staff and the public.  \n  \nGregory J. Hobbs\, Jr.\, is the Distinguished Jurist in Residence and Co-Director of the Environmental and Natural Resources Law Program\, University of Denver Sturm College of Law. He is also is currently serving as a Senior Water Judge for the Colorado Courts and is assigned to the mediation of water cases. \n  \nSW Colorado History Month \n 
URL:https://coloradohumanities.org/event/john-wesley-powells-vision-of-the-west-and-the-colorado-river-then-and-now/
LOCATION:Ft. Lewis College\, 1000 Rim Dr\, Durango\, CO\, 81301\, United States
CATEGORIES:History,History Live Durango
ATTACH;FMTTYPE=image/jpeg:https://coloradohumanities.org/wp-content/uploads/2019/07/Powell.jpg
ORGANIZER;CN="Gina Huett":MAILTO:ghuett@coloradohumanities.org
END:VEVENT
BEGIN:VEVENT
DTSTART;TZID=America/Denver:20190920T180000
DTEND;TZID=America/Denver:20190920T220000
DTSTAMP:20260420T083318
CREATED:20190720T191210Z
LAST-MODIFIED:20190916T160836Z
UID:4473-1569002400-1569016800@coloradohumanities.org
SUMMARY:Powerhouse PowerFall BallHistory Live Durango
DESCRIPTION:This annual ball is held at the historic Colorado Ute Power Plant\, the home of The Powerhouse. At the PowerFall Ball\, The Powerhouse will award its annual Powerhouse Maker Honorees. These awards are named after and in honor of four historic “makers” who helped create the Four Corners culture: L. L. Nunn\, who brought AC power to the area\, Caroline Romney\, who started the first newspaper in Durango\, Stuart Allen “Stu” Roosa\, who is the only astronaut from Durango\, and William Jackson Palmer\, who brought narrow gauge railroading to the area. \nAn award is given to a selected philanthropist\, student\, individual and business who are emblematic of the ingenuity\, perseverance\, innovation and success in the Four Corners in the fields of science\, technology\, engineering\, math and education. \nThe PowerFall Ball is currently developing a fifth award to honor the historical legacy of the Ute people and their current contributions to science and technology in the region. \nCocktails\, dinner\, entertainment and dancing are part of the evening. For more information contact The Powerhouse at 970-259-9234 or visit www.powsci.org. \n 
URL:https://coloradohumanities.org/event/powerhouse-powerfall-ball/
LOCATION:Powerhouse Science Center\, 1333 Camino Del Rio\, Durango\, CO\, 81301\, United States
CATEGORIES:History,History Live Durango
ATTACH;FMTTYPE=image/png:https://coloradohumanities.org/wp-content/uploads/2019/07/PowerFall-Ball.png
ORGANIZER;CN="Gina Huett":MAILTO:ghuett@coloradohumanities.org
END:VEVENT
END:VCALENDAR