BEGIN:VCALENDAR
VERSION:2.0
PRODID:-//Colorado Humanities - ECPv6.15.17//NONSGML v1.0//EN
CALSCALE:GREGORIAN
METHOD:PUBLISH
X-WR-CALNAME:Colorado Humanities
X-ORIGINAL-URL:https://coloradohumanities.org
X-WR-CALDESC:Events for Colorado Humanities
REFRESH-INTERVAL;VALUE=DURATION:PT1H
X-Robots-Tag:noindex
X-PUBLISHED-TTL:PT1H
BEGIN:VTIMEZONE
TZID:America/Denver
BEGIN:DAYLIGHT
TZOFFSETFROM:-0700
TZOFFSETTO:-0600
TZNAME:MDT
DTSTART:20180311T090000
END:DAYLIGHT
BEGIN:STANDARD
TZOFFSETFROM:-0600
TZOFFSETTO:-0700
TZNAME:MST
DTSTART:20181104T080000
END:STANDARD
BEGIN:DAYLIGHT
TZOFFSETFROM:-0700
TZOFFSETTO:-0600
TZNAME:MDT
DTSTART:20190310T090000
END:DAYLIGHT
BEGIN:STANDARD
TZOFFSETFROM:-0600
TZOFFSETTO:-0700
TZNAME:MST
DTSTART:20191103T080000
END:STANDARD
BEGIN:DAYLIGHT
TZOFFSETFROM:-0700
TZOFFSETTO:-0600
TZNAME:MDT
DTSTART:20200308T090000
END:DAYLIGHT
BEGIN:STANDARD
TZOFFSETFROM:-0600
TZOFFSETTO:-0700
TZNAME:MST
DTSTART:20201101T080000
END:STANDARD
END:VTIMEZONE
BEGIN:VEVENT
DTSTART;TZID=America/Denver:20191102T190000
DTEND;TZID=America/Denver:20191102T210000
DTSTAMP:20260420T154928
CREATED:20191031T171037Z
LAST-MODIFIED:20191031T171037Z
UID:6189-1572721200-1572728400@coloradohumanities.org
SUMMARY:Colorado Poet Laureate at Artspace for Dia de los Muertos
DESCRIPTION:Celebrate Dia de los Muertos with Colorado Poet Laureate Bobby LeFebre at Artspace\, 140 West 3rd Street\, Loveland\, Colorado at 7 p.m.\, presented by Dr. Jonathan Alacantar.
URL:https://coloradohumanities.org/event/colorado-poet-laureate-at-artspace-for-dia-de-los-muertos/
CATEGORIES:Center for the Book
ATTACH;FMTTYPE=image/jpeg:https://coloradohumanities.org/wp-content/uploads/2017/10/portfolio_FNL_PL.jpg
END:VEVENT
END:VCALENDAR