BEGIN:VCALENDAR
VERSION:2.0
PRODID:-//Colorado Humanities - ECPv6.15.17//NONSGML v1.0//EN
CALSCALE:GREGORIAN
METHOD:PUBLISH
X-ORIGINAL-URL:https://coloradohumanities.org
X-WR-CALDESC:Events for Colorado Humanities
REFRESH-INTERVAL;VALUE=DURATION:PT1H
X-Robots-Tag:noindex
X-PUBLISHED-TTL:PT1H
BEGIN:VTIMEZONE
TZID:America/Denver
BEGIN:DAYLIGHT
TZOFFSETFROM:-0700
TZOFFSETTO:-0600
TZNAME:MDT
DTSTART:20190310T090000
END:DAYLIGHT
BEGIN:STANDARD
TZOFFSETFROM:-0600
TZOFFSETTO:-0700
TZNAME:MST
DTSTART:20191103T080000
END:STANDARD
BEGIN:DAYLIGHT
TZOFFSETFROM:-0700
TZOFFSETTO:-0600
TZNAME:MDT
DTSTART:20200308T090000
END:DAYLIGHT
BEGIN:STANDARD
TZOFFSETFROM:-0600
TZOFFSETTO:-0700
TZNAME:MST
DTSTART:20201101T080000
END:STANDARD
BEGIN:DAYLIGHT
TZOFFSETFROM:-0700
TZOFFSETTO:-0600
TZNAME:MDT
DTSTART:20210314T090000
END:DAYLIGHT
BEGIN:STANDARD
TZOFFSETFROM:-0600
TZOFFSETTO:-0700
TZNAME:MST
DTSTART:20211107T080000
END:STANDARD
END:VTIMEZONE
BEGIN:VEVENT
DTSTART;TZID=America/Denver:20200127T173000
DTEND;TZID=America/Denver:20200127T193000
DTSTAMP:20260420T153758
CREATED:20200123T205835Z
LAST-MODIFIED:20200127T155926Z
UID:6487-1580146200-1580153400@coloradohumanities.org
SUMMARY:Overground Railroad Author Event
DESCRIPTION:Proceeds from book sales will benefit Colorado Humanities’ Black History Live program. \n  \nRead more about Soul Food Scholar Adrian Miller and author Candacy Taylor.
URL:https://coloradohumanities.org/event/overground-railroad-author-event/
LOCATION:Blair-Caldwell African American Research Library\, 2401 Welton St\, Denver\, CO\, 80205\, United States
CATEGORIES:Benefits,Black History Live,History
ATTACH;FMTTYPE=image/jpeg:https://coloradohumanities.org/wp-content/uploads/2020/01/Overground-Railroad-less-text.jpg
ORGANIZER;CN="Sandy Tucker":MAILTO:tucker@coloradohumanities.org
GEO:39.7524359;-104.9816069
X-APPLE-STRUCTURED-LOCATION;VALUE=URI;X-ADDRESS=Blair-Caldwell African American Research Library 2401 Welton St Denver CO 80205 United States;X-APPLE-RADIUS=500;X-TITLE=2401 Welton St:geo:-104.9816069,39.7524359
END:VEVENT
END:VCALENDAR