BEGIN:VCALENDAR
VERSION:2.0
PRODID:-//Colorado Humanities - ECPv6.15.17//NONSGML v1.0//EN
CALSCALE:GREGORIAN
METHOD:PUBLISH
X-ORIGINAL-URL:https://coloradohumanities.org
X-WR-CALDESC:Events for Colorado Humanities
REFRESH-INTERVAL;VALUE=DURATION:PT1H
X-Robots-Tag:noindex
X-PUBLISHED-TTL:PT1H
BEGIN:VTIMEZONE
TZID:America/Denver
BEGIN:DAYLIGHT
TZOFFSETFROM:-0700
TZOFFSETTO:-0600
TZNAME:MDT
DTSTART:20190310T090000
END:DAYLIGHT
BEGIN:STANDARD
TZOFFSETFROM:-0600
TZOFFSETTO:-0700
TZNAME:MST
DTSTART:20191103T080000
END:STANDARD
BEGIN:DAYLIGHT
TZOFFSETFROM:-0700
TZOFFSETTO:-0600
TZNAME:MDT
DTSTART:20200308T090000
END:DAYLIGHT
BEGIN:STANDARD
TZOFFSETFROM:-0600
TZOFFSETTO:-0700
TZNAME:MST
DTSTART:20201101T080000
END:STANDARD
BEGIN:DAYLIGHT
TZOFFSETFROM:-0700
TZOFFSETTO:-0600
TZNAME:MDT
DTSTART:20210314T090000
END:DAYLIGHT
BEGIN:STANDARD
TZOFFSETFROM:-0600
TZOFFSETTO:-0700
TZNAME:MST
DTSTART:20211107T080000
END:STANDARD
END:VTIMEZONE
BEGIN:VEVENT
DTSTART;TZID=America/Denver:20200223T140000
DTEND;TZID=America/Denver:20200223T170000
DTSTAMP:20260420T172133
CREATED:20200117T223611Z
LAST-MODIFIED:20200129T184136Z
UID:6464-1582466400-1582477200@coloradohumanities.org
SUMMARY:D.I.N.E. Meet Rosa Parks
DESCRIPTION:Join us for another D.I.N.E. experience:\ngreat company\, food and food for thought.\nEnjoy a full-course luncheon and stellar Chautauqua performance by nationally acclaimed scholar-presenter Becky Stone as the iconic Civil Rights Activist\, Rosa Parks. \nSunday\, Feb. 23 at 2 p.m.\n$55 per person\, cash bar\nHalf price for children eight to 12 years \nReservations must be made by Friday\, Feb. 21.\nYou can reserve online\, or by contacting Colorado Humanities at 303-894-7951. \nThe luncheon will be held at Maggiano’s Little Italy\,\n7401 South Clinton\, Englewood \n  \nPurchase tickets now through our online store! \n 
URL:https://coloradohumanities.org/event/d-i-n-e-meet-rosa-parks/
LOCATION:Maggiano’s Little Italy at Denver Tech Center\, 7401 S. Clinton Street\, Englewood\, CO\, United States
CATEGORIES:Benefits,Black History Live,History
GEO:39.5820746;-104.8762472
X-APPLE-STRUCTURED-LOCATION;VALUE=URI;X-ADDRESS=Maggiano’s Little Italy at Denver Tech Center 7401 S. Clinton Street Englewood CO United States;X-APPLE-RADIUS=500;X-TITLE=7401 S. Clinton Street:geo:-104.8762472,39.5820746
END:VEVENT
BEGIN:VEVENT
DTSTART;TZID=America/Denver:20200224T140000
DTEND;TZID=America/Denver:20200224T150000
DTSTAMP:20260420T172133
CREATED:20200127T154426Z
LAST-MODIFIED:20200127T164733Z
UID:6539-1582552800-1582556400@coloradohumanities.org
SUMMARY:Black History Live - Platteville
DESCRIPTION:Actor and scholar Becky Stone will portray Rosa Parks in Colorado communities as part of Colorado Humanities’ Black History Live tour. This living history portrayal will give insight into how and why Rosa Parks prepared for her pivotal act of resistance. Performances are followed with a question and answer time with Stone in character as Rosa Parks\, and then with Becky herself.
URL:https://coloradohumanities.org/event/black-history-live-platteville/
LOCATION:Platteville Public Library\, 504 Marion Ave.\, Platteville\, CO\, 80651\, United States
CATEGORIES:Black History Live,History
ATTACH;FMTTYPE=image/png:https://coloradohumanities.org/wp-content/uploads/2017/10/Becky-Stone-as-Rosa-Parks-on-Bus.png
ORGANIZER;CN="Gina Huett":MAILTO:ghuett@coloradohumanities.org
END:VEVENT
BEGIN:VEVENT
DTSTART;TZID=America/Denver:20200224T190000
DTEND;TZID=America/Denver:20200224T200000
DTSTAMP:20260420T172133
CREATED:20200127T162208Z
LAST-MODIFIED:20200127T165037Z
UID:6545-1582570800-1582574400@coloradohumanities.org
SUMMARY:Black History Live - Greeley
DESCRIPTION:Actor and scholar Becky Stone will portray Rosa Parks in Colorado communities as part of Colorado Humanities’ Black History Live tour. This living history portrayal will give insight into how and why Rosa Parks prepared for her pivotal act of resistance. Performances are followed with a question and answer time with Stone in character as Rosa Parks\, and then with Becky herself.
URL:https://coloradohumanities.org/event/black-history-live-greeley1/
LOCATION:University of Northern Colordo\, Brown Hall\, 901 19th St.\, Centennial Hall Mtg. Rm.\, Greeley\, 80631\, United States
CATEGORIES:Black History Live,History
ATTACH;FMTTYPE=image/png:https://coloradohumanities.org/wp-content/uploads/2017/10/Becky-Stone-as-Rosa-Parks-on-Bus.png
ORGANIZER;CN="Gina Huett":MAILTO:ghuett@coloradohumanities.org
END:VEVENT
BEGIN:VEVENT
DTSTART;TZID=America/Denver:20200225T110000
DTEND;TZID=America/Denver:20200225T120000
DTSTAMP:20260420T172133
CREATED:20200127T162857Z
LAST-MODIFIED:20200127T165242Z
UID:6549-1582628400-1582632000@coloradohumanities.org
SUMMARY:Black History Live - Greeley
DESCRIPTION:Actor and scholar Becky Stone will portray Rosa Parks in Colorado communities as part of Colorado Humanities’ Black History Live tour. This living history portrayal will give insight into how and why Rosa Parks prepared for her pivotal act of resistance. Performances are followed with a question and answer time with Stone in character as Rosa Parks\, and then with Becky herself.
URL:https://coloradohumanities.org/event/black-history-live-greeley2/
LOCATION:University of Northern Colorado
CATEGORIES:Black History Live,History
ATTACH;FMTTYPE=image/png:https://coloradohumanities.org/wp-content/uploads/2017/10/Becky-Stone-as-Rosa-Parks-on-Bus.png
ORGANIZER;CN="Gina Huett":MAILTO:ghuett@coloradohumanities.org
END:VEVENT
BEGIN:VEVENT
DTSTART;TZID=America/Denver:20200225T140000
DTEND;TZID=America/Denver:20200225T150000
DTSTAMP:20260420T172133
CREATED:20200127T164241Z
LAST-MODIFIED:20200127T164605Z
UID:6553-1582639200-1582642800@coloradohumanities.org
SUMMARY:Black History Live - Greeley
DESCRIPTION:Actor and scholar Becky Stone will portray Rosa Parks in Colorado communities as part of Colorado Humanities’ Black History Live tour. This living history portrayal will give insight into how and why Rosa Parks prepared for her pivotal act of resistance. Performances are followed with a question and answer time with Stone in character as Rosa Parks\, and then with Becky herself.
URL:https://coloradohumanities.org/event/black-history-live-greeley3/
LOCATION:Greeley Active Adult Center\, 1010 6th St.\, Greeley\, 80631\, United States
CATEGORIES:Black History Live,History
ATTACH;FMTTYPE=image/png:https://coloradohumanities.org/wp-content/uploads/2017/10/Becky-Stone-as-Rosa-Parks-on-Bus.png
ORGANIZER;CN="Gina Huett":MAILTO:ghuett@coloradohumanities.org
END:VEVENT
BEGIN:VEVENT
DTSTART;TZID=America/Denver:20200226T110000
DTEND;TZID=America/Denver:20200226T120000
DTSTAMP:20260420T172133
CREATED:20200127T170908Z
LAST-MODIFIED:20200127T170926Z
UID:6562-1582714800-1582718400@coloradohumanities.org
SUMMARY:Black History Live – Greeley
DESCRIPTION:Actor and scholar Becky Stone will portray Rosa Parks in Colorado communities as part of Colorado Humanities’ Black History Live tour. This living history portrayal will give insight into how and why Rosa Parks prepared for her pivotal act of resistance. Performances are followed with a question and answer time with Stone in character as Rosa Parks\, and then with Becky herself.
URL:https://coloradohumanities.org/event/black-history-live-greeley4/
LOCATION:Greeley Central high School
CATEGORIES:Black History Live,History
ATTACH;FMTTYPE=image/png:https://coloradohumanities.org/wp-content/uploads/2017/10/Becky-Stone-as-Rosa-Parks-on-Bus.png
ORGANIZER;CN="Gina Huett":MAILTO:ghuett@coloradohumanities.org
END:VEVENT
BEGIN:VEVENT
DTSTART;TZID=America/Denver:20200226T190000
DTEND;TZID=America/Denver:20200226T200000
DTSTAMP:20260420T172133
CREATED:20200127T171636Z
LAST-MODIFIED:20200127T172802Z
UID:6565-1582743600-1582747200@coloradohumanities.org
SUMMARY:Black History Live – Erie
DESCRIPTION:Actor and scholar Becky Stone will portray Rosa Parks in Colorado communities as part of Colorado Humanities’ Black History Live tour. This living history portrayal will give insight into how and why Rosa Parks prepared for her pivotal act of resistance. Performances are followed with a question and answer time with Stone in character as Rosa Parks\, and then with Becky herself.
URL:https://coloradohumanities.org/event/black-history-live-erie/
LOCATION:Erie Community Center\, 450 Powers St.\, Erie\, CO\, 80516\, United States
CATEGORIES:Black History Live,History
ATTACH;FMTTYPE=image/png:https://coloradohumanities.org/wp-content/uploads/2017/10/Becky-Stone-as-Rosa-Parks-on-Bus.png
ORGANIZER;CN="Gina Huett":MAILTO:ghuett@coloradohumanities.org
END:VEVENT
BEGIN:VEVENT
DTSTART;TZID=America/Denver:20200227T110000
DTEND;TZID=America/Denver:20200227T120000
DTSTAMP:20260420T172133
CREATED:20200127T181134Z
LAST-MODIFIED:20200127T182557Z
UID:6569-1582801200-1582804800@coloradohumanities.org
SUMMARY:Black History Live – Ft. Collins
DESCRIPTION:Actor and scholar Becky Stone will portray Rosa Parks in Colorado communities as part of Colorado Humanities’ Black History Live tour. This living history portrayal will give insight into how and why Rosa Parks prepared for her pivotal act of resistance. Performances are followed with a question and answer time with Stone in character as Rosa Parks\, and then with Becky herself.
URL:https://coloradohumanities.org/event/black-history-live-ft-collins/
LOCATION:Front Range Community College\, 4616 S. Shields St.\, Longs Peak Student Center\, Ft. Collins\, CO\, 80526\, United States
CATEGORIES:Black History Live,History
ATTACH;FMTTYPE=image/png:https://coloradohumanities.org/wp-content/uploads/2017/10/Becky-Stone-as-Rosa-Parks-on-Bus.png
ORGANIZER;CN="Gina Huett":MAILTO:ghuett@coloradohumanities.org
END:VEVENT
BEGIN:VEVENT
DTSTART;TZID=America/Denver:20200227T180000
DTEND;TZID=America/Denver:20200227T190000
DTSTAMP:20260420T172133
CREATED:20200127T173246Z
LAST-MODIFIED:20200127T181627Z
UID:6573-1582826400-1582830000@coloradohumanities.org
SUMMARY:Black History Live – Centennial
DESCRIPTION:Actor and scholar Becky Stone will portray Rosa Parks in Colorado communities as part of Colorado Humanities’ Black History Live tour. This living history portrayal will give insight into how and why Rosa Parks prepared for her pivotal act of resistance. Performances are followed with a question and answer time with Stone in character as Rosa Parks\, and then with Becky herself.
URL:https://coloradohumanities.org/event/black-history-live-centennial/
LOCATION:Koelbel Library\, 5955 S Holly Street\, Centennial\, CO\, 80121\, United States
CATEGORIES:Black History Live,History
ATTACH;FMTTYPE=image/png:https://coloradohumanities.org/wp-content/uploads/2017/10/Becky-Stone-as-Rosa-Parks-on-Bus.png
ORGANIZER;CN="Gina Huett":MAILTO:ghuett@coloradohumanities.org
END:VEVENT
BEGIN:VEVENT
DTSTART;TZID=America/Denver:20200228T100000
DTEND;TZID=America/Denver:20200228T110000
DTSTAMP:20260420T172133
CREATED:20200127T173634Z
LAST-MODIFIED:20200127T190408Z
UID:6575-1582884000-1582887600@coloradohumanities.org
SUMMARY:Black History Live - Denver
DESCRIPTION:Actor and scholar Becky Stone will portray Rosa Parks in Colorado communities as part of Colorado Humanities’ Black History Live tour. This living history portrayal will give insight into how and why Rosa Parks prepared for her pivotal act of resistance. Performances are followed with a question and answer time with Stone in character as Rosa Parks\, and then with Becky herself.
URL:https://coloradohumanities.org/event/black-history-live-denver/
LOCATION:Windsor Gardens\, 595 S Clinton St\, Auditorium\, Denver\, CO\, 80247\, United States
CATEGORIES:Black History Live,History
ATTACH;FMTTYPE=image/png:https://coloradohumanities.org/wp-content/uploads/2017/10/Becky-Stone-as-Rosa-Parks-on-Bus.png
ORGANIZER;CN="Gina Huett":MAILTO:ghuett@coloradohumanities.org
END:VEVENT
BEGIN:VEVENT
DTSTART;TZID=America/Denver:20200228T140000
DTEND;TZID=America/Denver:20200228T150000
DTSTAMP:20260420T172133
CREATED:20200127T181815Z
LAST-MODIFIED:20200128T224910Z
UID:6578-1582898400-1582902000@coloradohumanities.org
SUMMARY:Black History Live - Littleton
DESCRIPTION:Actor and scholar Becky Stone will portray Rosa Parks in Colorado communities as part of Colorado Humanities’ Black History Live tour. This living history portrayal will give insight into how and why Rosa Parks prepared for her pivotal act of resistance. Performances are followed with a question and answer time with Stone in character as Rosa Parks\, and then with Becky herself.
URL:https://coloradohumanities.org/event/black-history-live-littleton/
LOCATION:Bemis Public Library\, 6014 S Datura Street\, Littleton\, CO\, 80120\, United States
CATEGORIES:Black History Live,History
ATTACH;FMTTYPE=image/png:https://coloradohumanities.org/wp-content/uploads/2017/10/Becky-Stone-as-Rosa-Parks-on-Bus.png
ORGANIZER;CN="Gina Huett":MAILTO:ghuett@coloradohumanities.org
END:VEVENT
BEGIN:VEVENT
DTSTART;TZID=America/Denver:20200229T100000
DTEND;TZID=America/Denver:20200229T110000
DTSTAMP:20260420T172133
CREATED:20200127T174438Z
LAST-MODIFIED:20200225T043231Z
UID:6580-1582970400-1582974000@coloradohumanities.org
SUMMARY:Black History Live - Aurora
DESCRIPTION:Actor and scholar Becky Stone will portray Rosa Parks in Colorado communities as part of Colorado Humanities’ Black History Live tour. This living history portrayal will give insight into how and why Rosa Parks prepared for her pivotal act of resistance. Performances are followed with a question and answer time with Stone in character as Rosa Parks\, and then with Becky herself.
URL:https://coloradohumanities.org/event/black-history-live-aurora/
LOCATION:Aurora Central Library\, 14949 E. Alameda Pkwy.\, Aurora\, CO\, 80012\, United States
CATEGORIES:Black History Live,History
ATTACH;FMTTYPE=image/png:https://coloradohumanities.org/wp-content/uploads/2017/10/Becky-Stone-as-Rosa-Parks-on-Bus.png
ORGANIZER;CN="Gina Huett":MAILTO:ghuett@coloradohumanities.org
END:VEVENT
END:VCALENDAR