BEGIN:VCALENDAR
VERSION:2.0
PRODID:-//Colorado Humanities - ECPv6.15.17//NONSGML v1.0//EN
CALSCALE:GREGORIAN
METHOD:PUBLISH
X-ORIGINAL-URL:https://coloradohumanities.org
X-WR-CALDESC:Events for Colorado Humanities
REFRESH-INTERVAL;VALUE=DURATION:PT1H
X-Robots-Tag:noindex
X-PUBLISHED-TTL:PT1H
BEGIN:VTIMEZONE
TZID:America/Denver
BEGIN:DAYLIGHT
TZOFFSETFROM:-0700
TZOFFSETTO:-0600
TZNAME:MDT
DTSTART:20190310T090000
END:DAYLIGHT
BEGIN:STANDARD
TZOFFSETFROM:-0600
TZOFFSETTO:-0700
TZNAME:MST
DTSTART:20191103T080000
END:STANDARD
BEGIN:DAYLIGHT
TZOFFSETFROM:-0700
TZOFFSETTO:-0600
TZNAME:MDT
DTSTART:20200308T090000
END:DAYLIGHT
BEGIN:STANDARD
TZOFFSETFROM:-0600
TZOFFSETTO:-0700
TZNAME:MST
DTSTART:20201101T080000
END:STANDARD
BEGIN:DAYLIGHT
TZOFFSETFROM:-0700
TZOFFSETTO:-0600
TZNAME:MDT
DTSTART:20210314T090000
END:DAYLIGHT
BEGIN:STANDARD
TZOFFSETFROM:-0600
TZOFFSETTO:-0700
TZNAME:MST
DTSTART:20211107T080000
END:STANDARD
END:VTIMEZONE
BEGIN:VEVENT
DTSTART;TZID=America/Denver:20200309T183000
DTEND;TZID=America/Denver:20200309T200000
DTSTAMP:20260423T085632
CREATED:20200206T181330Z
LAST-MODIFIED:20200206T224912Z
UID:6700-1583778600-1583784000@coloradohumanities.org
SUMMARY:One Woman\, One Vote - Pueblo
DESCRIPTION:Come meet Jeannette Rankin as portrayed by historic interpreter and scholar Mary Jane Bradbury! This living history presentation will focus on Rankin’s rise to political prominence during the volatile political climate of the last years of the suffrage fight and her courage as a pioneering woman politician. Performances are followed with a question and answer time with Jeannette Rankin and then with Mary Jane Bradbury. \nJeannette Rankin was the first woman elected to the U.S. Congress. A suffragist\, humanitarian\, and advocate for social reform\, Rankin was the only member of Congress to vote against U.S. entry into both world wars. Hear in her own words her views on equality and government reform.
URL:https://coloradohumanities.org/event/one-woman-one-vote-pueblo/
LOCATION:Pueblo Community College Hoag Theater\, 900 West Orman Avenue\, Pueblo\, CO\, 81004\, United States
CATEGORIES:History
ATTACH;FMTTYPE=image/jpeg:https://coloradohumanities.org/wp-content/uploads/2020/02/MJ-Bradbury-J.-Rankin.jpg
ORGANIZER;CN="Betty Jo Brenner":MAILTO:brenner@coloradohumanities.org
END:VEVENT
BEGIN:VEVENT
DTSTART;TZID=America/Denver:20200310T180000
DTEND;TZID=America/Denver:20200310T193000
DTSTAMP:20260423T085632
CREATED:20200206T221207Z
LAST-MODIFIED:20200212T155208Z
UID:6705-1583863200-1583868600@coloradohumanities.org
SUMMARY:One Woman\, One Vote - Colorado Springs
DESCRIPTION:Come meet Jeannette Rankin as portrayed by historic interpreter and scholar Mary Jane Bradbury! This living history presentation will focus on Rankin’s rise to political prominence during the volatile political climate of the last years of the suffrage fight and her courage as a pioneering woman politician. Performances are followed with a question and answer time with Jeannette Rankin and then with Mary Jane Bradbury. \nJeannette Rankin was the first woman elected to the U.S. Congress. A suffragist\, humanitarian\, and advocate for social reform\, Rankin was the only member of Congress to vote against U.S. entry into both world wars. Hear in her own words her views on equality and government reform.
URL:https://coloradohumanities.org/event/one-woman-one-vote-colorado-springs/
LOCATION:Colorado Springs Pioneers Museum\, 215 S. Tejon Street\, Colorado Springs\, CO\, 80903\, United States
ATTACH;FMTTYPE=image/jpeg:https://coloradohumanities.org/wp-content/uploads/2020/02/MJ-Bradbury-J.-Rankin.jpg
ORGANIZER;CN="Betty Jo Brenner":MAILTO:brenner@coloradohumanities.org
END:VEVENT
BEGIN:VEVENT
DTSTART;TZID=America/Denver:20200311T183000
DTEND;TZID=America/Denver:20200311T200000
DTSTAMP:20260423T085632
CREATED:20200206T222131Z
LAST-MODIFIED:20200206T224204Z
UID:6708-1583951400-1583956800@coloradohumanities.org
SUMMARY:One Woman\, One Vote - Thornton
DESCRIPTION:Come meet Jeannette Rankin as portrayed by historic interpreter and scholar Mary Jane Bradbury! This living history presentation will focus on Rankin’s rise to political prominence during the volatile political climate of the last years of the suffrage fight and her courage as a pioneering woman politician. Performances are followed with a question and answer time with Jeannette Rankin and then with Mary Jane Bradbury. \nJeannette Rankin was the first woman elected to the U.S. Congress. A suffragist\, humanitarian\, and advocate for social reform\, Rankin was the only member of Congress to vote against U.S. entry into both world wars. Hear in her own words her views on equality and government reform.
URL:https://coloradohumanities.org/event/one-woman-one-vote-thornton/
LOCATION:Anythink Huron Street Library\, 9417 Huron St.\, Thornton\, CO\, 80260\, United States
CATEGORIES:History
ATTACH;FMTTYPE=image/jpeg:https://coloradohumanities.org/wp-content/uploads/2020/02/MJ-Bradbury-J.-Rankin.jpg
ORGANIZER;CN="Betty Jo Brenner":MAILTO:brenner@coloradohumanities.org
END:VEVENT
BEGIN:VEVENT
DTSTART;TZID=America/Denver:20200312T160000
DTEND;TZID=America/Denver:20200312T173000
DTSTAMP:20260423T085632
CREATED:20200206T222811Z
LAST-MODIFIED:20200212T155335Z
UID:6712-1584028800-1584034200@coloradohumanities.org
SUMMARY:One Woman\, One Vote - Denver
DESCRIPTION:Come meet Jeannette Rankin as portrayed by historic interpreter and scholar Mary Jane Bradbury! This living history presentation will focus on Rankin’s rise to political prominence during the volatile political climate of the last years of the suffrage fight and her courage as a pioneering woman politician. Performances are followed with a question and answer time with Jeannette Rankin and then with Mary Jane Bradbury. \nJeannette Rankin was the first woman elected to the U.S. Congress. A suffragist\, humanitarian\, and advocate for social reform\, Rankin was the only member of Congress to vote against U.S. entry into both world wars. Hear in her own words her views on equality and government reform.
URL:https://coloradohumanities.org/event/one-woman-one-vote-denver/2020-03-12/
LOCATION:Center for Colorado Women’s History at the Byers-Evans House Museum\, 1310 Bannock Street\, Denver\, CO\, 80204\, United States
CATEGORIES:History
ATTACH;FMTTYPE=image/jpeg:https://coloradohumanities.org/wp-content/uploads/2020/02/MJ-Bradbury-J.-Rankin.jpg
ORGANIZER;CN="Betty Jo Brenner":MAILTO:brenner@coloradohumanities.org
END:VEVENT
BEGIN:VEVENT
DTSTART;TZID=America/Denver:20200313T140000
DTEND;TZID=America/Denver:20200313T153000
DTSTAMP:20260423T085632
CREATED:20200212T155048Z
LAST-MODIFIED:20200212T155048Z
UID:6724-1584108000-1584113400@coloradohumanities.org
SUMMARY:One Woman\, One Vote - Littleton
DESCRIPTION:Come meet Jeannette Rankin as portrayed by historic interpreter and scholar Mary Jane Bradbury! This living history presentation will focus on Rankin’s rise to political prominence during the volatile political climate of the last years of the suffrage fight and her courage as a pioneering woman politician. Performances are followed with a question and answer time with Jeannette Rankin and then with Mary Jane Bradbury. \nJeannette Rankin was the first woman elected to the U.S. Congress. A suffragist\, humanitarian\, and advocate for social reform\, Rankin was the only member of Congress to vote against U.S. entry into both world wars. Hear in her own words her views on equality and government reform.
URL:https://coloradohumanities.org/event/one-woman-one-vote-littleton/
LOCATION:Bemis Public Library\, 6014 S Datura Street\, Littleton\, CO\, 80120\, United States
CATEGORIES:History
ATTACH;FMTTYPE=image/jpeg:https://coloradohumanities.org/wp-content/uploads/2020/02/MJ-Bradbury-J.-Rankin.jpg
ORGANIZER;CN="Betty Jo Brenner":MAILTO:brenner@coloradohumanities.org
END:VEVENT
END:VCALENDAR