BEGIN:VCALENDAR
VERSION:2.0
PRODID:-//Colorado Humanities - ECPv6.15.17//NONSGML v1.0//EN
CALSCALE:GREGORIAN
METHOD:PUBLISH
X-ORIGINAL-URL:https://coloradohumanities.org
X-WR-CALDESC:Events for Colorado Humanities
REFRESH-INTERVAL;VALUE=DURATION:PT1H
X-Robots-Tag:noindex
X-PUBLISHED-TTL:PT1H
BEGIN:VTIMEZONE
TZID:America/Denver
BEGIN:DAYLIGHT
TZOFFSETFROM:-0700
TZOFFSETTO:-0600
TZNAME:MDT
DTSTART:20190310T090000
END:DAYLIGHT
BEGIN:STANDARD
TZOFFSETFROM:-0600
TZOFFSETTO:-0700
TZNAME:MST
DTSTART:20191103T080000
END:STANDARD
BEGIN:DAYLIGHT
TZOFFSETFROM:-0700
TZOFFSETTO:-0600
TZNAME:MDT
DTSTART:20200308T090000
END:DAYLIGHT
BEGIN:STANDARD
TZOFFSETFROM:-0600
TZOFFSETTO:-0700
TZNAME:MST
DTSTART:20201101T080000
END:STANDARD
BEGIN:DAYLIGHT
TZOFFSETFROM:-0700
TZOFFSETTO:-0600
TZNAME:MDT
DTSTART:20210314T090000
END:DAYLIGHT
BEGIN:STANDARD
TZOFFSETFROM:-0600
TZOFFSETTO:-0700
TZNAME:MST
DTSTART:20211107T080000
END:STANDARD
END:VTIMEZONE
BEGIN:VEVENT
DTSTART;TZID=America/Denver:20200327T160000
DTEND;TZID=America/Denver:20200327T180000
DTSTAMP:20260421T002919
CREATED:20190724T160140Z
LAST-MODIFIED:20200420T154615Z
UID:6419-1585324800-1585332000@coloradohumanities.org
SUMMARY:Veterans Writing Workshop - Expressive - online & by phone
DESCRIPTION:Veterans Writing Workshops Online & by phone\nConnecting Veterans \nOur Veterans Writing Workshops offer a safe place for veterans\, their family members\, and caregivers to write about their experiences. These workshops provide participants the opportunity to create\, share\, and receive feedback on their writing and are led by veterans who are professional writers. Previous writing experience is not necessary. \n  \nExpressive Writing Workshops\nSign up for completely free and private expressive writing workshops by emailing Cindy@cskaggs.com\, leader of similar recent workshops at Mt. Carmel Veterans Services Center. Expressive writing helps relieve the effects of trauma on your life and reduces stress. Research shows that the ability to manage your life through your story increases overall wellness. Workshop approach based on James W. Pennebaker\, Ph.D’s Writing to Heal\, pain management techniques developed by Sane in Pain author Josephine Jones\, as well as creative writing prompts to explore your experiences and possibilities. These free workshops are provided through collaboration with Mt. Carmel Veterans Service Center. \n  \nWorkshops will be led by Pikes Peak Community College English Professor and MFA Creative Writing Faculty @SNHU Cindy Skaggs\, who is also an Air Force veteran. Skaggs’ areas of specialization include fiction and nonfiction writing\, building writing communities\, with a research focus on gender bias in poverty\, war writing\, and PTSD. \nELIGIBILITY: Military affiliation\, over 18 years of age \n  \nTo participate in journaling or writing for publication workshops\, contact Josephine Jones \nat jones@coloradohumanities.org. \nLearn more \n \n  \n  \n  \n  \n  \n  \n 
URL:https://coloradohumanities.org/event/veterans-writing-workshop-2020-02-10-2020-03-27/2020-03-27/
CATEGORIES:Center for the Book,Veterans Writing
ATTACH;FMTTYPE=image/png:https://coloradohumanities.org/wp-content/uploads/2019/07/admin-ajax.png
ORGANIZER;CN="Cindy Skaggs":MAILTO:cindy@cskaggs.com
END:VEVENT
END:VCALENDAR