BEGIN:VCALENDAR
VERSION:2.0
PRODID:-//Colorado Humanities - ECPv6.15.17//NONSGML v1.0//EN
CALSCALE:GREGORIAN
METHOD:PUBLISH
X-WR-CALNAME:Colorado Humanities
X-ORIGINAL-URL:https://coloradohumanities.org
X-WR-CALDESC:Events for Colorado Humanities
REFRESH-INTERVAL;VALUE=DURATION:PT1H
X-Robots-Tag:noindex
X-PUBLISHED-TTL:PT1H
BEGIN:VTIMEZONE
TZID:America/Denver
BEGIN:DAYLIGHT
TZOFFSETFROM:-0700
TZOFFSETTO:-0600
TZNAME:MDT
DTSTART:20190310T090000
END:DAYLIGHT
BEGIN:STANDARD
TZOFFSETFROM:-0600
TZOFFSETTO:-0700
TZNAME:MST
DTSTART:20191103T080000
END:STANDARD
BEGIN:DAYLIGHT
TZOFFSETFROM:-0700
TZOFFSETTO:-0600
TZNAME:MDT
DTSTART:20200308T090000
END:DAYLIGHT
BEGIN:STANDARD
TZOFFSETFROM:-0600
TZOFFSETTO:-0700
TZNAME:MST
DTSTART:20201101T080000
END:STANDARD
BEGIN:DAYLIGHT
TZOFFSETFROM:-0700
TZOFFSETTO:-0600
TZNAME:MDT
DTSTART:20210314T090000
END:DAYLIGHT
BEGIN:STANDARD
TZOFFSETFROM:-0600
TZOFFSETTO:-0700
TZNAME:MST
DTSTART:20211107T080000
END:STANDARD
END:VTIMEZONE
BEGIN:VEVENT
DTSTART;TZID=America/Denver:20200503T150000
DTEND;TZID=America/Denver:20200503T163000
DTSTAMP:20260421T015615
CREATED:20200428T213938Z
LAST-MODIFIED:20200506T172801Z
UID:7430-1588518000-1588523400@coloradohumanities.org
SUMMARY:Veterans Expressive Writing Workshop
DESCRIPTION:Expressive writing provides support for a deeply private writing process proven to reduce stress. This effective\, free trauma intervention is led by veteran author Cindy Skaggs. Join us for a deep dive into guided writing on Sunday afternoons in May\, starting at 3 p.m.\, via the online platform Discord. Do all four days of Dr. James Pennebaker’s Expressive Writing prompts with the group’s support.
URL:https://coloradohumanities.org/event/veterans-expressive-writing-workshop/2020-05-03/
CATEGORIES:Center for the Book,Veterans Writing
ATTACH;FMTTYPE=image/jpeg:https://coloradohumanities.org/wp-content/uploads/2020/05/CindySkaggs9-scaled.jpg
ORGANIZER;CN="Cindy Skaggs":MAILTO:cindy@cskaggs.com
END:VEVENT
BEGIN:VEVENT
DTSTART;TZID=America/Denver:20200506T120000
DTEND;TZID=America/Denver:20200506T130000
DTSTAMP:20260421T015615
CREATED:20200428T221457Z
LAST-MODIFIED:20200506T172525Z
UID:7447-1588766400-1588770000@coloradohumanities.org
SUMMARY:Veterans Writing: Journaling
DESCRIPTION:Writing to heal and transform\nLunch and Learn with Cindy Skaggs! These workshops provide participants the opportunity to create\, share\, and receive feedback on their writing. They are led by veterans who are professional writers. Participants will learn to use the written word to express emotions and convey their experiences. Previous writing experience is not necessary. \n  \n 
URL:https://coloradohumanities.org/event/veterans-writing-journaling/
LOCATION:Online with Discord
CATEGORIES:Center for the Book
ATTACH;FMTTYPE=image/jpeg:https://coloradohumanities.org/wp-content/uploads/2020/05/CindySkaggs9-scaled.jpg
ORGANIZER;CN="Cindy Skaggs":MAILTO:cindy@cskaggs.com
END:VEVENT
BEGIN:VEVENT
DTSTART;TZID=America/Denver:20200508T080000
DTEND;TZID=America/Denver:20200508T170000
DTSTAMP:20260421T015615
CREATED:20200501T182037Z
LAST-MODIFIED:20200501T183634Z
UID:7459-1588924800-1588957200@coloradohumanities.org
SUMMARY:2020 CBA Online Finalist Reading – General Nonfiction\, History & Pictorial
DESCRIPTION:Colorado Book Award Finalists in the General Nonfiction\, History\, and Pictorial categories will read and answer questions during an online event hosted by Colorado Humanities & Center for the Book on Friday\, May 8\, 2020 at 7 p.m. MST. Join the Zoom webinar (details at coloradohumanities.org) to converse live with authors Diana Kouris\, Daniel C. Guiet\, Timothy K. Smith\, Mark Obmascik\, Christie Aschwanden\, Connie Shoemaker\, Michael Bennet\, Patrick Loehr\, Teague von Bohlen\, Britten Leigh Traughber\, Jill Tietjen\, and Barbara Bridges. Adrian Miller\, a food writer\, attorney\, and 2018 Colorado Book Award finalist\, will MC. Facebook Live attendees can send in questions and comments. Support local business by ordering online from co-host BookBar. \nThanks to our sponsors\, events are free. Long-time sponsor Outskirts Press helps thousands of authors develop\, publish\, and market thousands of high-quality\, award-winning books. The Colorado Sun\, our newest sponsor\, features weekly excerpts and interviews from Colorado authors. \nVisit the Colorado Book Awards page for more information and to see the complete Finalist Reading schedule. \n 
URL:https://coloradohumanities.org/event/2020-cba-online-finalist-reading-general-nonfiction-history-pictorial/
ATTACH;FMTTYPE=image/jpeg:https://coloradohumanities.org/wp-content/uploads/2020/05/Pictorial-Flatland.jpg
END:VEVENT
END:VCALENDAR