BEGIN:VCALENDAR
VERSION:2.0
PRODID:-//Colorado Humanities - ECPv6.15.17//NONSGML v1.0//EN
CALSCALE:GREGORIAN
METHOD:PUBLISH
X-ORIGINAL-URL:https://coloradohumanities.org
X-WR-CALDESC:Events for Colorado Humanities
REFRESH-INTERVAL;VALUE=DURATION:PT1H
X-Robots-Tag:noindex
X-PUBLISHED-TTL:PT1H
BEGIN:VTIMEZONE
TZID:America/Denver
BEGIN:DAYLIGHT
TZOFFSETFROM:-0700
TZOFFSETTO:-0600
TZNAME:MDT
DTSTART:20190310T090000
END:DAYLIGHT
BEGIN:STANDARD
TZOFFSETFROM:-0600
TZOFFSETTO:-0700
TZNAME:MST
DTSTART:20191103T080000
END:STANDARD
BEGIN:DAYLIGHT
TZOFFSETFROM:-0700
TZOFFSETTO:-0600
TZNAME:MDT
DTSTART:20200308T090000
END:DAYLIGHT
BEGIN:STANDARD
TZOFFSETFROM:-0600
TZOFFSETTO:-0700
TZNAME:MST
DTSTART:20201101T080000
END:STANDARD
BEGIN:DAYLIGHT
TZOFFSETFROM:-0700
TZOFFSETTO:-0600
TZNAME:MDT
DTSTART:20210314T090000
END:DAYLIGHT
BEGIN:STANDARD
TZOFFSETFROM:-0600
TZOFFSETTO:-0700
TZNAME:MST
DTSTART:20211107T080000
END:STANDARD
END:VTIMEZONE
BEGIN:VEVENT
DTSTART;TZID=America/Denver:20201209T190000
DTEND;TZID=America/Denver:20201209T203000
DTSTAMP:20260421T173853
CREATED:20201013T213611Z
LAST-MODIFIED:20210104T195600Z
UID:9387-1607540400-1607545800@coloradohumanities.org
SUMMARY:Talking to Children about Race
DESCRIPTION:Dr. Rosemarie Allen will moderate an online panel conversation with live Q & A about ‘Talking to Children about Race’ that aims to provide parents and caregivers with skills to have these discussions at a pivotal time in our shared history. Featured panelists are Dorothy Shapland\, Alissa Rausch\, and Omar Montgomery. This series is free and will be broadcast live on YouTube and Facebook. Please register.
URL:https://coloradohumanities.org/event/talking-to-children-about-race-2020-12-09/
LOCATION:Online
CATEGORIES:Conversations
ATTACH;FMTTYPE=image/jpeg:https://coloradohumanities.org/wp-content/uploads/2020/10/CLoRE-featured-image.jpg
ORGANIZER;CN="Josephine Jones":MAILTO:jones@coloradohumanities.org
END:VEVENT
END:VCALENDAR