BEGIN:VCALENDAR
VERSION:2.0
PRODID:-//Colorado Humanities - ECPv6.15.17//NONSGML v1.0//EN
CALSCALE:GREGORIAN
METHOD:PUBLISH
X-ORIGINAL-URL:https://coloradohumanities.org
X-WR-CALDESC:Events for Colorado Humanities
REFRESH-INTERVAL;VALUE=DURATION:PT1H
X-Robots-Tag:noindex
X-PUBLISHED-TTL:PT1H
BEGIN:VTIMEZONE
TZID:America/Denver
BEGIN:DAYLIGHT
TZOFFSETFROM:-0700
TZOFFSETTO:-0600
TZNAME:MDT
DTSTART:20240310T090000
END:DAYLIGHT
BEGIN:STANDARD
TZOFFSETFROM:-0600
TZOFFSETTO:-0700
TZNAME:MST
DTSTART:20241103T080000
END:STANDARD
BEGIN:DAYLIGHT
TZOFFSETFROM:-0700
TZOFFSETTO:-0600
TZNAME:MDT
DTSTART:20250309T090000
END:DAYLIGHT
BEGIN:STANDARD
TZOFFSETFROM:-0600
TZOFFSETTO:-0700
TZNAME:MST
DTSTART:20251102T080000
END:STANDARD
BEGIN:DAYLIGHT
TZOFFSETFROM:-0700
TZOFFSETTO:-0600
TZNAME:MDT
DTSTART:20260308T090000
END:DAYLIGHT
BEGIN:STANDARD
TZOFFSETFROM:-0600
TZOFFSETTO:-0700
TZNAME:MST
DTSTART:20261101T080000
END:STANDARD
END:VTIMEZONE
BEGIN:VEVENT
DTSTART;TZID=America/Denver:20250903T180000
DTEND;TZID=America/Denver:20250903T190000
DTSTAMP:20260424T115920
CREATED:20250827T180032Z
LAST-MODIFIED:20250827T191832Z
UID:18640-1756922400-1756926000@coloradohumanities.org
SUMMARY:Harriet Tubman portrayed by Becky Stone – History Live Durango
DESCRIPTION:History Live! celebrates the humanities in Southwest Colorado with lectures\, workshops\, and live portrayals of historical figures. The Southwest Colorado Humanities Roundtable is proud to offer a full month of programming each September. \nSave the date for September 3 Becky Stone portrays Harriet Tubman.
URL:https://coloradohumanities.org/event/harriet-tubman-by-becky-stone-history-live-durango/
LOCATION:Ignacio Community Library\, 470 Goddard Ave.\, Ignacio\, CO\, 81137
CATEGORIES:History,History Live Durango
ATTACH;FMTTYPE=image/png:https://coloradohumanities.org/wp-content/uploads/2025/08/History-Live-Durango-16.9.png
END:VEVENT
BEGIN:VEVENT
DTSTART;TZID=America/Denver:20250903T190000
DTEND;TZID=America/Denver:20250903T200000
DTSTAMP:20260424T115920
CREATED:20250827T180256Z
LAST-MODIFIED:20250827T192231Z
UID:18643-1756926000-1756929600@coloradohumanities.org
SUMMARY:Billy Herndon portrayed by Brian "Fox" Ellis – History Live Durango
DESCRIPTION:History Live! celebrates the humanities in Southwest Colorado with lectures\, workshops\, and live portrayals of historical figures. The Southwest Colorado Humanities Roundtable is proud to offer a full month of programming each September. \nSave the date for September 3 at 130 Noble Hall in Fort Lewis College as nationally acclaimed scholar Brian “Fox” Ellis portrays Billy Herndon\, law partner and biographer of President Abraham Lincoln.
URL:https://coloradohumanities.org/event/18643/
LOCATION:Fort Lewis College\, 1000 Rim Drive\, Durango\, CO\, 81301\, United States
CATEGORIES:History,History Live Durango
ATTACH;FMTTYPE=image/png:https://coloradohumanities.org/wp-content/uploads/2025/08/History-Live-Durango-16.9.png
END:VEVENT
BEGIN:VEVENT
DTSTART;TZID=America/Denver:20250904T120000
DTEND;TZID=America/Denver:20250904T130000
DTSTAMP:20260424T115921
CREATED:20250827T183750Z
LAST-MODIFIED:20250827T192552Z
UID:18647-1756987200-1756990800@coloradohumanities.org
SUMMARY:Austin Gollaher portrayed by Brian "Fox" Ellis – History Live Durango
DESCRIPTION:History Live! celebrates the humanities in Southwest Colorado with lectures\, workshops\, and live portrayals of historical figures. The Southwest Colorado Humanities Roundtable is proud to offer a full month of programming each September. \nSave the date for September 4 as nationally acclaimed scholar Brian “Fox” Ellis portrays Austin Gollaher\, author and friend of President Abraham Lincoln. \nArrive early to be a part of the luncheon at 11:30 a.m.
URL:https://coloradohumanities.org/event/austin-gollaher-portrayed-by-brian-fox-ellis-history-live-durango/
LOCATION:Pine River Library\, 395 Bayfield Center Dr\, Bayfield\, CO\, 81122\, United States
CATEGORIES:History,History Live Durango
ATTACH;FMTTYPE=image/png:https://coloradohumanities.org/wp-content/uploads/2025/08/History-Live-Durango-16.9.png
END:VEVENT
BEGIN:VEVENT
DTSTART;TZID=America/Denver:20250904T190000
DTEND;TZID=America/Denver:20250904T200000
DTSTAMP:20260424T115921
CREATED:20250827T191436Z
LAST-MODIFIED:20250827T192028Z
UID:18650-1757012400-1757016000@coloradohumanities.org
SUMMARY:Harriet Tubman portrayed by Becky Stone – History Live Durango
DESCRIPTION:History Live! celebrates the humanities in Southwest Colorado with lectures\, workshops\, and live portrayals of historical figures. The Southwest Colorado Humanities Roundtable is proud to offer a full month of programming each September. \nSave the date for September 4 at 130 Noble Hall at Fort Lewis College as actor/scholar Becky Stone portrays Harriet Tubman.
URL:https://coloradohumanities.org/event/harriet-tubman-portrayed-by-becky-stone-history-live-durango/
LOCATION:Fort Lewis College\, 1000 Rim Drive\, Durango\, CO\, 81301\, United States
CATEGORIES:History,History Live Durango
ATTACH;FMTTYPE=image/png:https://coloradohumanities.org/wp-content/uploads/2025/08/History-Live-Durango-16.9.png
END:VEVENT
END:VCALENDAR