BEGIN:VCALENDAR
VERSION:2.0
PRODID:-//Colorado Humanities - ECPv6.15.17//NONSGML v1.0//EN
CALSCALE:GREGORIAN
METHOD:PUBLISH
X-ORIGINAL-URL:https://coloradohumanities.org
X-WR-CALDESC:Events for Colorado Humanities
REFRESH-INTERVAL;VALUE=DURATION:PT1H
X-Robots-Tag:noindex
X-PUBLISHED-TTL:PT1H
BEGIN:VTIMEZONE
TZID:America/Denver
BEGIN:DAYLIGHT
TZOFFSETFROM:-0700
TZOFFSETTO:-0600
TZNAME:MDT
DTSTART:20240310T090000
END:DAYLIGHT
BEGIN:STANDARD
TZOFFSETFROM:-0600
TZOFFSETTO:-0700
TZNAME:MST
DTSTART:20241103T080000
END:STANDARD
BEGIN:DAYLIGHT
TZOFFSETFROM:-0700
TZOFFSETTO:-0600
TZNAME:MDT
DTSTART:20250309T090000
END:DAYLIGHT
BEGIN:STANDARD
TZOFFSETFROM:-0600
TZOFFSETTO:-0700
TZNAME:MST
DTSTART:20251102T080000
END:STANDARD
BEGIN:DAYLIGHT
TZOFFSETFROM:-0700
TZOFFSETTO:-0600
TZNAME:MDT
DTSTART:20260308T090000
END:DAYLIGHT
BEGIN:STANDARD
TZOFFSETFROM:-0600
TZOFFSETTO:-0700
TZNAME:MST
DTSTART:20261101T080000
END:STANDARD
END:VTIMEZONE
BEGIN:VEVENT
DTSTART;VALUE=DATE:20250912
DTEND;VALUE=DATE:20250914
DTSTAMP:20260424T083228
CREATED:20250827T160758Z
LAST-MODIFIED:20250909T161026Z
UID:18638-1757635200-1757807999@coloradohumanities.org
SUMMARY:History Alive! Colorado West Chautauqua
DESCRIPTION:Each year\, the festival draws Coloradans from across the Mesa County area to enjoy living history portrayals by nationally acclaimed professional Chautauqua scholars\, serving as stepping stones for greater discussions during daytime events and evening presentations. This year’s theme\, “Venture into the Unknown\,” will bring portrayals of notable historical figures who have made scientific breakthroughs that have changed life as we know it. Features for 2025 include Hedy Lamarr\, Nikola Tesla\, Charles Darwin\, and Marie Curie. \nThe festival will take place September 12-13\, 2025 in the evenings at the Grand Valley Event Center. Daytime events will be held at Mesa County Public Libraries.
URL:https://coloradohumanities.org/event/history-alive-colorado-west-chautauqua-2/
LOCATION:Grand Valley Events Center\, 2400 Consistory Ct\, Grand Junction\, CO\, 81501\, United States
CATEGORIES:Colorado West Chautauqua,History
ATTACH;FMTTYPE=image/png:https://coloradohumanities.org/wp-content/uploads/2025/08/unnamed-4.png
END:VEVENT
END:VCALENDAR