BEGIN:VCALENDAR
VERSION:2.0
PRODID:-//Colorado Humanities - ECPv6.15.17//NONSGML v1.0//EN
CALSCALE:GREGORIAN
METHOD:PUBLISH
X-ORIGINAL-URL:https://coloradohumanities.org
X-WR-CALDESC:Events for Colorado Humanities
REFRESH-INTERVAL;VALUE=DURATION:PT1H
X-Robots-Tag:noindex
X-PUBLISHED-TTL:PT1H
BEGIN:VTIMEZONE
TZID:America/Denver
BEGIN:DAYLIGHT
TZOFFSETFROM:-0700
TZOFFSETTO:-0600
TZNAME:MDT
DTSTART:20190310T090000
END:DAYLIGHT
BEGIN:STANDARD
TZOFFSETFROM:-0600
TZOFFSETTO:-0700
TZNAME:MST
DTSTART:20191103T080000
END:STANDARD
BEGIN:DAYLIGHT
TZOFFSETFROM:-0700
TZOFFSETTO:-0600
TZNAME:MDT
DTSTART:20200308T090000
END:DAYLIGHT
BEGIN:STANDARD
TZOFFSETFROM:-0600
TZOFFSETTO:-0700
TZNAME:MST
DTSTART:20201101T080000
END:STANDARD
BEGIN:DAYLIGHT
TZOFFSETFROM:-0700
TZOFFSETTO:-0600
TZNAME:MDT
DTSTART:20210314T090000
END:DAYLIGHT
BEGIN:STANDARD
TZOFFSETFROM:-0600
TZOFFSETTO:-0700
TZNAME:MST
DTSTART:20211107T080000
END:STANDARD
END:VTIMEZONE
BEGIN:VEVENT
DTSTART;TZID=America/Denver:20200924T180000
DTEND;TZID=America/Denver:20200924T200000
DTSTAMP:20260423T191853
CREATED:20200729T172112Z
LAST-MODIFIED:20200803T153118Z
UID:8536-1600970400-1600977600@coloradohumanities.org
SUMMARY:The Preservation of the Historic Tiffany ChurchHistory Live Durango
DESCRIPTION:The Ignacio Community Library will virtually host local historian Ruth Lambert for a presentation on preservation efforts of the Tiffany Catholic Church in Tiffany\, Colorado. The small Tiffany Catholic Church\, Iglesia de San Antonio\, is one of the few remaining historic churches that conveys the story of Hispano history in the area of southeastern La Plata County near the border with New Mexico. \n \n  \nThis will be an online event. For details on how to participate please contact: \nAndrew Hutchinson \nahutchinson@ignaciolibrary.org \n970-563-9287
URL:https://coloradohumanities.org/event/the-preservation-of-the-historic-tiffany-church-history-live-durango/
LOCATION:Online
CATEGORIES:History,History Live Durango
ATTACH;FMTTYPE=image/jpeg:https://coloradohumanities.org/wp-content/uploads/2020/07/Iglesia-de-San-Antonio-Tiffany-Church.jpg
ORGANIZER;CN="Andrew Hutchinson":MAILTO:ahutchinson@ignaciolibrary.org
END:VEVENT
BEGIN:VEVENT
DTSTART;TZID=America/Denver:20200918T180000
DTEND;TZID=America/Denver:20200918T200000
DTSTAMP:20260423T191854
CREATED:20200729T165345Z
LAST-MODIFIED:20200803T152738Z
UID:8525-1600452000-1600459200@coloradohumanities.org
SUMMARY:Storytelling with Angel VigilHistory Live Durango
DESCRIPTION:Ignacio Community Library will be virtually hosting renowned storyteller Angel Vigil for a performance of a wide variety of Hispanic folklore stories. Mr. Vigil has received many accolades and awards for his performances in Colorado and has graciously agreed to help the Library kick off Hispanic Heritage Month – as well as participate in the local History Live! program. \n \n  \nThis will be an online event. For details on how to participate please contact: \nAndrew Hutchinson \nahutchinson@ignaciolibrary.org \n970-563-9287
URL:https://coloradohumanities.org/event/storytelling-with-angel-vigil-history-live-durango/
LOCATION:Online
CATEGORIES:History,History Live Durango
ATTACH;FMTTYPE=image/jpeg:https://coloradohumanities.org/wp-content/uploads/2020/07/Angel-Vigil-storyteller.jpg
ORGANIZER;CN="Andrew Hutchinson":MAILTO:ahutchinson@ignaciolibrary.org
END:VEVENT
END:VCALENDAR